Workbook
Name OLE_LINK1: 'Özkaynak Değişim Tablosu'!#REF!
Name OLE_LINK154: 'Nakit Akım Tablosu'!#REF!
Name OLE_LINK3: 'Nakit Akım Tablosu'!$G$5
Name OLE_LINK41: Kaynaklar!$D$30
Name OLE_LINK43: Varlıklar!#REF!
Name OLE_LINK64: Kaynaklar!#REF!

Sheet Varlıklar
A1: Ford Otomotiv Sanayi A.Ş. 30 Haziran 2024 ve 31 Aralık 2023 tarihleri itibarıyla finansal durum tabloları
C2: Cari Dönem Sınırlı denetimden geçmiş | D2: Geçmiş dönem bağımsız denetimden geçmiş
A3: (Tutarlar, aksi belirtilmedikçe, bin Türk Lirası (“TL”) olarak Türk Lirasının 30 Haziran 2024 tarihindeki alım gücü ile ifade edilmiştir.) | B3: Notlar | C3: 45473 | D3: 45291
A4: Varlıklar | E4: Check | F4: Check
A5: Dönen varlıklar | C5: =SUM(C7:C19) -> 136598668 | D5: =SUM(D7:D19) -> 128377716 | E5: ='[1]Bilanço A'!$N$10-C5 -> 0 | F5: ='[1]Bilanço A'!$O$10-D5 -> 0
A7: Nakit ve nakit benzerleri | C7: ='[1]Bilanço A'!$N$16 -> 17854870 | D7: ='[1]Bilanço A'!$O$16 -> 18990283
A8: Ticari alacaklar
A9: - İlişkili taraflardan ticari alacaklar | B9: 21 | C9: ='[1]Bilanço A'!$N$19 -> 40263923 | D9: ='[1]Bilanço A'!$O$19 -> 31505217
A10: - İlişkili olmayan taraflardan ticari alacaklar | B10: 6 | C10: ='[1]Bilanço A'!$N$20 -> 14336751 | D10: ='[1]Bilanço A'!$O$20 -> 25361080
A11: Diğer alacaklar
A12: - İlişkili taraflardan diğer alacaklar | B12: 21 | C12: ='[1]Bilanço A'!$N$22 -> 1771611 | D12: ='[1]Bilanço A'!$O$22 -> 1489549
A13: - İlişkili olmayan taraflardan diğer alacaklar | C13: ='[1]Bilanço A'!$N$23 -> 470086 | D13: ='[1]Bilanço A'!$O$23 -> 253495
A14: Müşteri sözleşmelerinden doğan varlıklar | C14: ='[1]Bilanço A'!$N$24 -> 691806 | D14: ='[1]Bilanço A'!$O$24 -> 1412846
A15: Stoklar | B15: 7 | C15: ='[1]Bilanço A'!$N$25 -> 51133871 | D15: ='[1]Bilanço A'!$O$25 -> 36612578
A16: Peşin ödenmiş giderler | B16: 10 | C16: ='[1]Bilanço A'!$N$26 -> 3009531 | D16: ='[1]Bilanço A'!$O$26 -> 2398950
A17: Diğer dönen varlıklar | C17: ='[1]Bilanço A'!$N$27 -> 7066219 | D17: ='[1]Bilanço A'!$O$27 -> 10315861
A18: Cari dönem vergisi ile ilgili varlıklar | B18: 19 | C18: ='[1]Bilanço A'!$N$28 -> 0 | D18: ='[1]Bilanço A'!$O$28 -> 0
A19: Türev finansal varlıklar | B19: 22.23 | C19: ='[1]Bilanço A'!$N$29 -> 0 | D19: ='[1]Bilanço A'!$O$29 -> 37857
E20: Check | F20: Check
A21: Duran varlıklar | C21: =SUM(C23:C38) -> 141840296 | D21: =SUM(D23:D38) -> 142306003 | E21: ='[1]Bilanço A'!$N$31-C21 -> 0 | F21: ='[1]Bilanço A'!$O$31-D21 -> 0
A23: Finansal yatırımlar | B23: 4 | C23: ='[1]Bilanço A'!$N$37 -> 567424 | D23: ='[1]Bilanço A'!$O$37 -> 434108
A24: Ticari alacaklar
A25: - İlişkili olmayan taraflardan ticari alacaklar | B25: 6 | C25: ='[1]Bilanço A'!$N$39 -> 701 | D25: ='[1]Bilanço A'!$O$39 -> 20820
A26: Diğer Alacaklar
A27: - İlişkili taraflardan diğer alacaklar | B27: 21 | C27: ='[1]Bilanço A'!$N$41 -> 12390575 | D27: ='[1]Bilanço A'!$O$41 -> 12318327
A28: Maddi duran varlıklar | B28: 8 | C28: ='[1]Bilanço A'!$N$42 -> 76155113 | D28: ='[1]Bilanço A'!$O$42 -> 71345262
A29: Maddi olmayan duran varlıklar
A30: - Diğer maddi olmayan duran varlıklar | B30: 9 | C30: ='[1]Bilanço A'!$N$44 -> 17643618 | D30: ='[1]Bilanço A'!$O$44 -> 22401227
A31: - Şerefiye | C31: ='[1]Bilanço A'!$N$45 -> 882784 | D31: ='[1]Bilanço A'!$O$45 -> 1021653
A32: Kullanım hakkı varlıkları | C32: ='[1]Bilanço A'!$N$46 -> 1328067 | D32: ='[1]Bilanço A'!$O$46 -> 1216913
A33: Peşin ödenmiş giderler | B33: 10 | C33: ='[1]Bilanço A'!$N$47 -> 15233244 | D33: ='[1]Bilanço A'!$O$47 -> 16715172
A34: Ertelenmiş vergi varlığı | B34: 19 | C34: ='[1]Bilanço A'!$N$48 -> 17075255 | D34: ='[1]Bilanço A'!$O$48 -> 16232221
A35: Özkaynak yöntemiyle değerlenen yatırımlar | C35: 0 | D35: 0
A36: İştirakler, iş ortaklıkları ve bağlı ortaklıklardaki yatırımlar | C36: ='[1]Bilanço A'!$N$49 -> 230227 | D36: ='[1]Bilanço A'!$O$49 -> 156464
A37: Türev finansal varlıklar | B37: 22.23 | C37: ='[1]Bilanço A'!$N$50 -> 333288 | D37: ='[1]Bilanço A'!$O$50 -> 443836
A38: Diğer duran varlıklar | B38: 35 | C38: 0 | D38: 0
E39: Check | F39: Check
A40: Toplam varlıklar | C40: =+C5+C21 -> 278438964 | D40: =+D5+D21 -> 270683719 | E40: ='[1]Bilanço A'!$N$52-C40 -> 0 | F40: ='[1]Bilanço A'!$O$52-D40 -> 0

Sheet Kaynaklar
A1: =+Varlıklar!A1 -> Ford Otomotiv Sanayi A.Ş. 30 Haziran 2024 ve 31 Aralık 2023 tarihleri itibarıyla finansal durum tabloları
C2: Cari Dönem Sınırlı denetimden geçmiş | D2: =Varlıklar!D2 -> Geçmiş dönem bağımsız denetimden geçmiş
A3: (Tutarlar, aksi belirtilmedikçe, bin Türk Lirası (“TL”) olarak Türk Lirasının 30 Haziran 2024 tarihindeki alım gücü ile ifade edilmiştir.) | B3: Notlar | C3: =Varlıklar!C3 -> 45473 | D3: =Varlıklar!D3 -> 45291
A4: Kaynaklar | E4: Check | F4: Check
A5: Kısa vadeli yükümlülükler | C5: =SUM(C7:C25) -> 115931558 | D5: =SUM(D8:D25) -> 117417927 | E5: ='[1]Bilanço P'!$L$13-C5 -> 0 | F5: ='[1]Bilanço P'!$M$13-D5 -> 0
A7: Kısa vadeli borçlanmalar
A8: - Banka kredileri | B8: 5 | C8: ='[1]Bilanço P'!$L$19 -> 19641365 | D8: ='[1]Bilanço P'!$M$19 -> 24502275
A9: Uzun vadeli borçlanmaların kısa vadeli kısımları
A10: - Banka kredileri | B10: 5 | C10: ='[1]Bilanço P'!$L$21 -> 18738598 | D10: ='[1]Bilanço P'!$M$21 -> 17645216
A11: - İhraç edilmiş borçlanma araçları | C11: ='[1]Bilanço P'!$L$22 -> 1123660 | D11: ='[1]Bilanço P'!$M$22 -> 0
A12: - Kiralama işlemlerinden borçlar | C12: ='[1]Bilanço P'!$L$23 -> 174968 | D12: ='[1]Bilanço P'!$M$23 -> 217322
A13: - Diğer uzun vadeli borçlanmaların kısa vadeli kısımları | B13: 5 | C13: ='[1]Bilanço P'!$L$24 -> 6741333 | D13: ='[1]Bilanço P'!$M$24 -> 0
A14: Ticari borçlar
A15: - İlişkili taraflara ticari borçlar | B15: 21 | C15: ='[1]Bilanço P'!$L$26 -> 8885802 | D15: ='[1]Bilanço P'!$M$26 -> 12285393
A16: - İlişkili olmayan taraflara ticari borçlar | B16: 6 | C16: ='[1]Bilanço P'!$L$27 -> 49355603 | D16: ='[1]Bilanço P'!$M$27 -> 53281611
A17: Diğer borçlar
A18: - İlişkili taraflara diğer borçlar | B18: 21 | C18: ='[1]Bilanço P'!$L$29 -> 4055 | D18: ='[1]Bilanço P'!$M$29 -> 780363
A19: - İlişkili olmayan taraflara diğer borçlar | C19: ='[1]Bilanço P'!$L$30 -> 1622264 | D19: ='[1]Bilanço P'!$M$30 -> 1251808
A20: Ertelenmiş gelirler | C20: ='[1]Bilanço P'!$L$31 -> 4040902 | D20: ='[1]Bilanço P'!$M$31 -> 730192
A21: Kısa vadeli karşılıklar
A22: - Diğer kısa vadeli karşılıklar | B22: 11 | C22: ='[1]Bilanço P'!$L$33 -> 1504939 | D22: ='[1]Bilanço P'!$M$33 -> 1588836
A23: Çalışanlara sağlanan faydalar kapsamında borçlar | C23: ='[1]Bilanço P'!$L$34 -> 3851578 | D23: ='[1]Bilanço P'!$M$34 -> 5042844
A24: Dönem karı vergi yükümlülüğü | B24: 19 | C24: ='[1]Bilanço P'!$L$35 -> 97337 | D24: ='[1]Bilanço P'!$M$35 -> 92067
A25: Türev finansal yükümlülükler | B25: 22.23 | C25: ='[1]Bilanço P'!$L$36 -> 149154 | D25: ='[1]Bilanço P'!$M$36 -> 0
E26: Check | F26: Check
A27: Uzun vadeli yükümlülükler | C27: =SUM(C30:C40) -> 75174560 | D27: =SUM(D30:D40) -> 62199829 | E27: ='[1]Bilanço P'!$L$40-C27 -> 0 | F27: ='[1]Bilanço P'!$M$40-D27 -> 0
A29: Uzun vadeli borçlanmalar
A30: - Banka kredileri | B30: 5 | C30: ='[1]Bilanço P'!$L$46 -> 45848512 | D30: ='[1]Bilanço P'!$M$46 -> 37970292
A31: - İhraç edilmiş borçlanma araçları | B31: 5 | C31: ='[1]Bilanço P'!$L$47 -> 15472924 | D31: ='[1]Bilanço P'!$M$47 -> 0
A32: - Kiralama işlemlerinden borçlar | C32: ='[1]Bilanço P'!$L$48 -> 953051 | D32: ='[1]Bilanço P'!$M$48 -> 860844
A33: - Diğer uzun vadeli borçlanmalar | B33: 5 | C33: ='[1]Bilanço P'!$L$49 -> 4867742 | D33: ='[1]Bilanço P'!$M$49 -> 13297092
A34: Uzun vadeli karşılıklar
A35: - Çalışanlara sağlanan faydalara ilişkin uzun vadeli karşılıklar | C35: ='[1]Bilanço P'!$L$52 -> 3071216 | D35: ='[1]Bilanço P'!$M$52 -> 2298923
A36: - Diğer uzun vadeli karşılıklar | B36: 11 | C36: ='[1]Bilanço P'!$L$53 -> 1615706 | D36: ='[1]Bilanço P'!$M$53 -> 1715034
A37: Ertelenmiş gelirler | C37: ='[1]Bilanço P'!$L$54 -> 2035634 | D37: ='[1]Bilanço P'!$M$54 -> 4688907
A38: Diğer uzun vadeli yükümlülükler | B38: 19 | C38: 0 | D38: 0
A39: Türev finansal yükümlülükler | B39: 22.23 | C39: ='[1]Bilanço P'!$L$57 -> 138940 | D39: ='[1]Bilanço P'!$M$57 -> 203559
A40: Ertelenmiş vergi yükümlülüğü | B40: 19 | C40: ='[1]Bilanço P'!$L$56 -> 1170835 | D40: ='[1]Bilanço P'!$M$56 -> 1165178
E41: Check | F41: Check
A42: Özkaynaklar | C42: =SUM(C44:C55) -> 87332846 | D42: =SUM(D44:D55) -> 91065963 | E42: ='[1]Bilanço P'!$L$60-C42 -> 0 | F42: ='[1]Bilanço P'!$M$60-D42 -> 0
A44: Ödenmiş sermaye | C44: ='[1]Bilanço P'!$L$65 -> 350910 | D44: ='[1]Bilanço P'!$M$65 -> 350910
A45: Sermaye düzeltme farkları | C45: ='[1]Bilanço P'!$L$66 -> 7347525 | D45: ='[1]Bilanço P'!$M$66 -> 7347525
A46: Paylara ilişkin primler | C46: ='[1]Bilanço P'!$L$67 -> 8 | D46: ='[1]Bilanço P'!$M$67 -> 8
A47: Kar veya zararda yeniden sınıflandırılmayacak birikmiş diğer kapsamlı gelirler / (giderler)
A48: - Tanımlanmış fayda planları yeniden ölçüm (kayıpları) | C48: ='[1]Bilanço P'!$L$70 -> -2203500 | D48: ='[1]Bilanço P'!$M$70 -> -1666049
A49: Kar veya zararda yeniden sınıflandırılacak birikmiş diğer kapsamlı gelirler / (giderler)
A50: - Gerçeğe uygun değer farkı diğer kapsamlı gelire yansıtılan finansal varlıklardan kazançlar | C50: ='[1]Bilanço P'!$L$74 -> 226325 | D50: ='[1]Bilanço P'!$M$74 -> 140671
A51: - Yabancı para çevirim farkları | C51: ='[1]Bilanço P'!$L$75 -> -4599717 | D51: ='[1]Bilanço P'!$M$75 -> -770366
A52: - Nakit akış riskinden korunma (kayıpları) | C52: ='[1]Bilanço P'!$L$76 -> -22516872 | D52: ='[1]Bilanço P'!$M$76 -> -23326037
A53: Kardan ayrılan kısıtlanmış yedekler | C53: ='[1]Bilanço P'!$L$77 -> 8932000 | D53: ='[1]Bilanço P'!$M$77 -> 7337457
A54: Geçmiş yıllar karları | C54: ='[1]Bilanço P'!$L$78 -> 84093439 | D54: ='[1]Bilanço P'!$M$78 -> 40462255
A55: Net dönem karı | C55: ='[1]Bilanço P'!$L$79 -> 15702728 | D55: ='[1]Bilanço P'!$M$79 -> 61189589
E56: Check | F56: Check
A57: Toplam kaynaklar | C57: =+C5+C27+C42 -> 278438964 | D57: =+D5+D27+D42 -> 270683719 | E57: ='[1]Bilanço P'!$L$81-C57 -> 0 | F57: ='[1]Bilanço P'!$M$81-D57 -> 0

Sheet Gelir Tablosu 
A1: Ford Otomotiv Sanayi A.Ş. 30 Haziran 2024 ve 2023 tarihlerinde sona eren altı aylık ara dönemlere ait kar veya zarar tabloları
A2: (Tutarlar, aksi belirtilmedikçe, bin Türk Lirası (“TL”) olarak Türk Lirasının 30 Haziran 2024 tarihindeki alım gücü ile ifade edilmiştir.) | C2: =+'[2]Gelir Tablosu'!C2 -> Sınırlı denetimden geçmiş | D2: =+'[3]Gelir Tablosu '!D2 -> Sınırlı denetimden geçmemiş | E2: =+'[3]Gelir Tablosu '!E2 -> Sınırlı denetimden geçmiş | F2: =+'[3]Gelir Tablosu '!F2 -> Sınırlı denetimden geçmemiş
A3: Türk Lirası (bin TL) | B3: Notlar | C3: 1 Ocak- 30 Haziran 2024 | D3: 1 Nisan- 30 Haziran 2024 | E3: 1 Ocak- 30 Haziran 2023 | F3: 1 Nisan- 30 Haziran 2023
A5: Sürdürülen faaliyetler
A6: Hasılat | B6: 14 | C6: ='[1]Gelir Tablosu'!$N$10 -> 241404349 | D6: ='[1]Gelir Tablosu'!$O$10 -> 106778529 | E6: ='[1]Gelir Tablosu'!$P$10 -> 253193541 | F6: ='[1]Gelir Tablosu'!$Q$10 -> 130017880
A7: Satışların maliyeti | B7: 14 | C7: ='[1]Gelir Tablosu'!$N$11 -> -216765012 | D7: ='[1]Gelir Tablosu'!$O$11 -> -96466132 | E7: ='[1]Gelir Tablosu'!$P$11 -> -219854622 | F7: ='[1]Gelir Tablosu'!$Q$11 -> -111900638
G8: Check | H8: Check
A9: Brüt kar | C9: =+SUM(C6:C7) -> 24639337 | D9: =+SUM(D6:D7) -> 10312397 | E9: =+SUM(E6:E7) -> 33338919 | F9: =+SUM(F6:F7) -> 18117242 | G9: ='[1]Gelir Tablosu'!$N$12-C9 -> 0 | H9: =+D9-'[4]Profit or Loss '!$D$9 -> 0
A11: Pazarlama giderleri | C11: ='[1]Gelir Tablosu'!$N$13 -> -4126938 | D11: ='[1]Gelir Tablosu'!$O$13 -> -2034719 | E11: ='[1]Gelir Tablosu'!$P$13 -> -3994100 | F11: ='[1]Gelir Tablosu'!$Q$13 -> -2506482
A12: Genel yönetim giderleri | C12: ='[1]Gelir Tablosu'!$N$14 -> -3871421 | D12: ='[1]Gelir Tablosu'!$O$14 -> -1756028 | E12: ='[1]Gelir Tablosu'!$P$14 -> -3478725 | F12: ='[1]Gelir Tablosu'!$Q$14 -> -1845076
A13: Araştırma ve geliştirme giderleri | C13: ='[1]Gelir Tablosu'!$N$15 -> -3067785 | D13: ='[1]Gelir Tablosu'!$O$15 -> -1605367 | E13: ='[1]Gelir Tablosu'!$P$15 -> -3671948 | F13: ='[1]Gelir Tablosu'!$Q$15 -> -2138852
A14: Esas faaliyetlerden diğer gelirler | B14: 16 | C14: ='[1]Gelir Tablosu'!$N$16 -> 5912943 | D14: ='[1]Gelir Tablosu'!$O$16 -> 1927402 | E14: ='[1]Gelir Tablosu'!$P$16 -> 11897369 | F14: ='[1]Gelir Tablosu'!$Q$16 -> 9804767
A15: Esas faaliyetlerden diğer giderler | B15: 16 | C15: ='[1]Gelir Tablosu'!$N$17 -> -5817389 | D15: ='[1]Gelir Tablosu'!$O$17 -> -2811225 | E15: ='[1]Gelir Tablosu'!$P$17 -> -5931875 | F15: ='[1]Gelir Tablosu'!$Q$17 -> -3970396
G16: Check | H16: Check
A17: Esas faaliyet karı | C17: =+SUM(C9:C15) -> 13668747 | D17: =+SUM(D9:D15) -> 4032460 | E17: =+SUM(E9:E15) -> 28159640 | F17: =+SUM(F9:F15) -> 17461203 | G17: ='[1]Gelir Tablosu'!$N$18-C17 -> 0 | H17: =+D17-'[4]Profit or Loss '!$D$17 -> 0
A19: Yatırım faaliyetlerinden gelirler | C19: ='[1]Gelir Tablosu'!$N$19 -> 1075976 | D19: ='[1]Gelir Tablosu'!$O$19 -> 327737 | E19: ='[1]Gelir Tablosu'!$P$19 -> 257 | F19: ='[1]Gelir Tablosu'!$Q$19 -> 175
A20: Yatırım faaliyetlerinden giderler | C20: ='[1]Gelir Tablosu'!$N$20 -> -5009 | D20: ='[1]Gelir Tablosu'!$O$20 -> -5009 | E20: ='[1]Gelir Tablosu'!$P$20 -> -2955 | F20: ='[1]Gelir Tablosu'!$Q$20 -> 0
A21: Özkaynak yöntemiyle değerlenen yatırımların karlarından / (zararlarlarından) paylar | B21: 32 | C21: =+'[5]Gelir Tablosu'!$D$24 -> 0 | D21: =+'[5]Gelir Tablosu'!$D$24 -> 0 | E21: =+'[5]Gelir Tablosu'!$D$24 -> 0 | F21: =+'[5]Gelir Tablosu'!$D$24 -> 0
G22: Check | H22: Check
A23: Finansman geliri / (gideri) öncesi faaliyet karı | C23: =+SUM(C17:C21) -> 14739714 | D23: =+SUM(D17:D21) -> 4355188 | E23: =+SUM(E17:E21) -> 28156942 | F23: =+SUM(F17:F21) -> 17461378 | G23: ='[1]Gelir Tablosu'!$N$21-C23 -> 0 | H23: ='[4]Profit or Loss '!$C$22-C23 -> 0
A25: Finansman gelirleri | B25: 17 | C25: ='[1]Gelir Tablosu'!$N$22 -> 4764867 | D25: ='[1]Gelir Tablosu'!$O$22 -> 1957169 | E25: ='[1]Gelir Tablosu'!$P$22 -> 9257887 | F25: ='[1]Gelir Tablosu'!$Q$22 -> 6145850
A26: Finansman giderleri | B26: 18 | C26: ='[1]Gelir Tablosu'!$N$23 -> -14535718 | D26: ='[1]Gelir Tablosu'!$O$23 -> -7261322 | E26: ='[1]Gelir Tablosu'!$P$23 -> -19459091 | F26: ='[1]Gelir Tablosu'!$Q$23 -> -13916402
A27: Net parasal pozisyon kazançları (kayıpları) | C27: ='[1]Gelir Tablosu'!$N$24 -> 10567814 | D27: ='[1]Gelir Tablosu'!$O$24 -> 5765242 | E27: ='[1]Gelir Tablosu'!$P$24 -> 6782393 | F27: ='[1]Gelir Tablosu'!$Q$24 -> 3937141
G28: Check | H28: Check
A29: Sürdürülen faaliyetler vergi öncesi karı | C29: =+SUM(C23:C27) -> 15536677 | D29: =+SUM(D23:D27) -> 4816277 | E29: =+SUM(E23:E27) -> 24738131 | F29: =+SUM(F23:F27) -> 13627967 | G29: ='[1]Gelir Tablosu'!$N$25-C29 -> 0 | H29: ='[4]Profit or Loss '!$C$28-C29 -> 0
A31: Sürdürülen faaliyetler vergi geliri / (gideri) | C31: =+SUM(C32:C33) -> 166051 | D31: =+SUM(D32:D33) -> 1159237 | E31: =+SUM(E32:E33) -> -5341096 | F31: =+SUM(F32:F33) -> -3072388
A32: - Dönem vergi gideri | B32: 19 | C32: ='[1]Gelir Tablosu'!$N$27 -> -263447 | D32: ='[1]Gelir Tablosu'!$O$27 -> -153867 | E32: ='[1]Gelir Tablosu'!$P$27 -> -3376389 | F32: ='[1]Gelir Tablosu'!$Q$27 -> -14453
A33: - Ertelenmiş vergi gideri | B33: 19 | C33: ='[1]Gelir Tablosu'!$N$28 -> 429498 | D33: ='[1]Gelir Tablosu'!$O$28 -> 1313104 | E33: ='[1]Gelir Tablosu'!$P$28 -> -1964707 | F33: ='[1]Gelir Tablosu'!$Q$28 -> -3057935
G34: Check | H34: Check
A35: Dönem karı | C35: =+C29+C32+C33 -> 15702728 | D35: =+D29+D32+D33 -> 5975514 | E35: =+E29+E32+E33 -> 19397035 | F35: =+F29+F32+F33 -> 10555579 | G35: ='[1]Gelir Tablosu'!$N$29-C35 -> 0 | H35: ='[4]Profit or Loss '!$C$34-C35 -> 0
A37: Nominal değeri 1 Kr olan pay başına kazanç | B37: 20 | C37: 44,75 Kr | D37: 17,03 Kr | E37: 55,28 Kr | F37: 30,08 Kr

Sheet Kapsamlı Gelir Tablosu 
A1: Ford Otomotiv Sanayi A.Ş. 30 Haziran 2024 ve 2023 tarihlerinde sona eren altı aylık ara dönemlere ait diğer kapsamlı gelir tabloları
A2: (Tutarlar, aksi belirtilmedikçe, bin Türk Lirası (“TL”) olarak Türk Lirasının 30 Haziran 2024 tarihindeki alım gücü ile ifade edilmiştir.) | C2: =+'[2]Gelir Tablosu'!C2 -> Sınırlı denetimden geçmiş | D2: =+'[3]Gelir Tablosu '!D2 -> Sınırlı denetimden geçmemiş | E2: =+'[3]Gelir Tablosu '!E2 -> Sınırlı denetimden geçmiş | F2: =+'[3]Gelir Tablosu '!F2 -> Sınırlı denetimden geçmemiş
A3: Türk Lirası (bin TL) | B3: Notlar | C3: =+'Gelir Tablosu '!C3 -> 1 Ocak- 30 Haziran 2024 | D3: =+'Gelir Tablosu '!D3 -> 1 Nisan- 30 Haziran 2024 | E3: =+'Gelir Tablosu '!E3 -> 1 Ocak- 30 Haziran 2023 | F3: =+'Gelir Tablosu '!F3 -> 1 Nisan- 30 Haziran 2023
G4: Check | H4: Check
A5: Dönem karı | C5: =+'Gelir Tablosu '!C35 -> 15702728 | D5: =+'Gelir Tablosu '!D35 -> 5975514 | E5: =+'Gelir Tablosu '!E35 -> 19397035 | F5: =+'Gelir Tablosu '!F35 -> 10555579 | G5: =+C5-'[4]Comprehensive Income Statement'!$C$5 -> 0 | H5: =+D5-'[4]Comprehensive Income Statement'!$D$5 -> 0
A7: Diğer kapsamlı gelir / (gider)
A9: Kar veya zararda yeniden sınıflandırılmayacaklar
A10: Tanımlanmış fayda planları yeniden ölçüm (kayıpları) / kazançları | C10: ='[1]Gelir Tablosu'!$N$39 -> -716601 | D10: ='[1]Gelir Tablosu'!$O$39 -> -281585 | E10: ='[1]Gelir Tablosu'!$P$39 -> 240709 | F10: ='[1]Gelir Tablosu'!$Q$39 -> -212
A12: Kar veya zararda yeniden sınıflandırılmayacak diğer kapsamlı gelire ilişkin vergiler
A13: Tanımlanmış fayda planları yeniden ölçüm kazançları / (kayıpları), vergi etkisi | C13: ='[1]Gelir Tablosu'!$N$43 -> 179150 | D13: ='[1]Gelir Tablosu'!$O$43 -> 70398 | E13: ='[1]Gelir Tablosu'!$P$43 -> -48143 | F13: ='[1]Gelir Tablosu'!$Q$43 -> 42
A15: Kar veya zarar olarak yeniden sınıflandırılacaklar
A16: Gerçeğe uygun değer farkı diğer kapsamlı gelire yansıtılan finansal varlıklardan kazançlar / (kayıplar) | C16: ='[1]Gelir Tablosu'!$N$48 -> 90162 | D16: ='[1]Gelir Tablosu'!$O$48 -> 90162 | E16: ='[1]Gelir Tablosu'!$P$48 -> -13873.617 | F16: ='[1]Gelir Tablosu'!$Q$48 -> 66682.383
A17: Nakit akış riskinden korunmaya ilişkin diğer kapsamlı gelir / (gider) | B17: 23 | C17: ='[1]Gelir Tablosu'!$N$50 -> 1078887 | D17: ='[1]Gelir Tablosu'!$O$50 -> 2497897 | E17: ='[1]Gelir Tablosu'!$P$50 -> -14218208 | F17: ='[1]Gelir Tablosu'!$Q$50 -> -14170819
A18: Yabancı para çevirim farkları | C18: ='[1]Gelir Tablosu'!$N$51 -> -3829351 | D18: ='[1]Gelir Tablosu'!$O$51 -> -1863559 | E18: ='[1]Gelir Tablosu'!$P$51 -> 3759619 | F18: ='[1]Gelir Tablosu'!$Q$51 -> 5753818
A20: Kar veya zararda yeniden sınıflandırılacak diğer kapsamlı gelire ilişkin vergiler
A21: Gerçeğe uygun değer farkı diğer kapsamlı gelire yansıtılan finansal varlıklardan kazançlar / (kayıplar), vergi etkisi | C21: ='[1]Gelir Tablosu'!$N$57 -> -4508 | D21: ='[1]Gelir Tablosu'!$O$57 -> -4508 | E21: ='[1]Gelir Tablosu'!$P$57 -> 694 | F21: ='[1]Gelir Tablosu'!$Q$57 -> -3334
A22: Nakit akış riskinden korunmaya ilişkin diğer kapsamlı gelir, vergi etkisi | B22: 19 | C22: ='[1]Gelir Tablosu'!$N$58 -> -269721.75 | D22: ='[1]Gelir Tablosu'!$O$58 -> -658955.75 | E22: ='[1]Gelir Tablosu'!$P$58 -> 3554552 | F22: ='[1]Gelir Tablosu'!$Q$58 -> 3544144
G23: Check | H23: Check
A24: Diğer kapsamlı gelir / (gider) | C24: =+SUM(C10:C22) -> -3471982.8 | D24: =+SUM(D10:D22) -> -150150.75 | E24: =+SUM(E10:E22) -> -6724650.6 | F24: =+SUM(F10:F22) -> -4809678.6 | G24: ='[1]Gelir Tablosu'!$N$60-C24 -> 0 | H24: =+D24-'[4]Comprehensive Income Statement'!$D$24 -> 0
A26: Toplam kapsamlı gelir | C26: =+C5+C24 -> 12230745 | D26: =+D5+D24 -> 5825363.2 | E26: =+E5+E24 -> 12672384 | F26: =+F5+F24 -> 5745900.4 | G26: ='[1]Gelir Tablosu'!$N$62-C26 -> 0 | H26: =+D26-'[4]Comprehensive Income Statement'!$D$26 -> 0

Sheet Özkaynak Değişim Tablosu
A1: Ford Otomotiv Sanayi A.Ş. 1 Ocak - 30 Haziran 2024 ve 2023 hesap dönemlerine ait özkaynak değişim tabloları
A2: (Tutarlar, aksi belirtilmedikçe, bin Türk Lirası (“TL”) olarak Türk Lirasının 30 Haziran 2024 tarihindeki alım gücü ile ifade edilmiştir.) | E2: Kar veya zararda yeniden sınıflandırılmayacak birikmiş diğer kapsamlı gelirler veya giderler | G2: Kar veya zararda yeniden sınıflandırılacak birikmiş diğer kapsamlı gelirler veya giderler | K2: Birikmiş karlar
A3: Türk Lirası (bin TL) | B3: Ödenmiş sermaye | C3: Sermaye düzeltmesi farkları | D3: Hisse senedi ihraç primleri | E3: Tanımlanmış fayda planları yeniden ölçüm (kayıpları) / kazançları | G3: Gerçeğe uygun değer farkı diğer kapsamlı gelire yansıtılan finansal varlıklardan kazançlar / (kayıplar) | H3: Nakit akış riskinden korunma (kayıpları) / kazançları | I3: Yabancı para çevrim farkları | J3: Kardan ayrılan kısıtlanmış yedekler | K3: Geçmiş yıllar karları | L3: Net dönem karı | M3: Toplam özkaynaklar | N3: Check
A4: 1 Ocak 2023 itibarıyla bakiyeler | B4: =[1]ÖKD!$C$17 -> 350910 | C4: =[1]ÖKD!$D$17 -> 7347525 | D4: =[1]ÖKD!$E$17 -> 8 | E4: =[1]ÖKD!$F$17 -> -1770275 | G4: =[1]ÖKD!$G$17 -> 124866 | H4: =[1]ÖKD!$H$17 -> -12451543 | I4: =[1]ÖKD!$I$17 -> 55552 | J4: =[1]ÖKD!$J$17 -> 6691055 | K4: =[1]ÖKD!$K$17 -> 28854471 | L4: =[1]ÖKD!$L$17 -> 34588924 | M4: =SUM(B4:L4) -> 63791493 | N4: =[1]ÖKD!$M$17-M4 -> 0
A6: Dönem karı | B6: =[1]ÖKD!$C$18 -> 0 | C6: =[1]ÖKD!$D$18 -> 0 | D6: =[1]ÖKD!$E$18 -> 0 | E6: =[1]ÖKD!$F$18 -> 0 | G6: =[1]ÖKD!$G$18 -> 0 | H6: =[1]ÖKD!$H$18 -> 0 | I6: =[1]ÖKD!$I$18 -> 0 | J6: =[1]ÖKD!$J$18 -> 0 | K6: =[1]ÖKD!$K$18 -> 0 | L6: =[1]ÖKD!$L$18 -> 19397035 | M6: =SUM(B6:L6) -> 19397035 | N6: =[1]ÖKD!$M$18-M6 -> 0
A7: Diğer kapsamlı gelir / (gider) | B7: =[1]ÖKD!$C$19 -> 0 | C7: =[1]ÖKD!$D$19 -> 0 | D7: =[1]ÖKD!$E$19 -> 0 | E7: =[1]ÖKD!$F$19 -> 192566 | G7: =[1]ÖKD!$G$19 -> -13180 | H7: =[1]ÖKD!$H$19 -> -10663656 | I7: =[1]ÖKD!$I$19 -> 3759619 | J7: =[1]ÖKD!$J$19 -> 0 | K7: =[1]ÖKD!$K$19 -> 0 | L7: =[1]ÖKD!$L$19 -> 0 | M7: =SUM(B7:L7) -> -6724651 | N7: =[1]ÖKD!$M$19-M7 -> 0
A8: Toplam kapsamlı gelir | B8: =+SUM(B6:B7) -> 0 | C8: =+SUM(C6:C7) -> 0 | D8: =+SUM(D6:D7) -> 0 | E8: =+SUM(E6:E7) -> 192566 | F8: =+SUM(F6:F7) -> 0 | G8: =+SUM(G6:G7) -> -13180 | H8: =+SUM(H6:H7) -> -10663656 | I8: =+SUM(I6:I7) -> 3759619 | ... L8: =+SUM(L6:L7) -> 19397035 | M8: =+SUM(B8:L8) -> 12672384 | N8: =[1]ÖKD!$M$21-M8 -> 0
A9: Transferler | B9: =[1]ÖKD!$C$22 -> 0 | C9: =[1]ÖKD!$D$22 -> 0 | D9: =[1]ÖKD!$E$22 -> 0 | E9: =[1]ÖKD!$F$22 -> 0 | G9: =[1]ÖKD!$G$22 -> 0 | H9: =[1]ÖKD!$H$22 -> 0 | I9: =[1]ÖKD!$I$22 -> 0 | J9: =[1]ÖKD!$J$22 -> 0 | K9: =[1]ÖKD!$K$22 -> 34588924 | L9: =[1]ÖKD!$L$22 -> -34588924 | M9: =+SUM(B9:L9) -> 0 | N9: =[1]ÖKD!$M$22-M9 -> 0
A10: Kar payları | B10: =[1]ÖKD!$C$23 -> 0 | C10: =[1]ÖKD!$D$23 -> 0 | D10: =[1]ÖKD!$E$23 -> 0 | E10: =[1]ÖKD!$F$23 -> 0 | F10: 0 | G10: =[1]ÖKD!$G$23 -> 0 | H10: =[1]ÖKD!$H$23 -> 0 | I10: =[1]ÖKD!$I$23 -> 0 | J10: =[1]ÖKD!$J$23 -> 910166 | K10: =[1]ÖKD!$K$23 -> -10043873 | L10: =[1]ÖKD!$L$23 -> 0 | M10: =+SUM(B10:L10) -> -9133707 | N10: =[1]ÖKD!$M$23-M10 -> 0
A11: 30 Haziran 2023 itibarıyla bakiyeler | B11: =B8+B9+B10+B4 -> 350910 | C11: =C8+C9+C10+C4 -> 7347525 | D11: =D8+D9+D10+D4 -> 8 | E11: =E8+E9+E10+E4 -> -1577709 | G11: =G8+G9+G10+G4 -> 111686 | H11: =H8+H9+H10+H4 -> -23115199 | I11: =I8+I9+I10+I4 -> 3815171 | J11: =J8+J9+J10+J4 -> 7601221 | K11: =K8+K9+K10+K4 -> 53399522 | L11: =L8+L9+L10+L4 -> 19397035 | M11: =M8+M9+M10+M4 -> 67330170 | N11: =[1]ÖKD!$M$25-M11 -> 0
A13: 1 Ocak 2024 itibarıyla bakiyeler | B13: =[1]ÖKD!$C$32 -> 350910 | C13: =[1]ÖKD!$D$32 -> 7347525 | D13: =[1]ÖKD!$E$32 -> 8 | E13: =[1]ÖKD!$F$32 -> -1666049 | G13: =[1]ÖKD!$G$32 -> 140671 | H13: =[1]ÖKD!$H$32 -> -23326037 | I13: =[1]ÖKD!$I$32 -> -770366 | J13: =[1]ÖKD!$J$32 -> 7337457 | K13: =[1]ÖKD!$K$32 -> 40462255 | L13: =[1]ÖKD!$L$32 -> 61189589 | M13: =+SUM(B13:L13) -> 91065963 | N13: =[1]ÖKD!$M$32-M13 -> 0
A15: Dönem karı | B15: =[1]ÖKD!C$33 -> 0 | C15: =[1]ÖKD!D$33 -> 0 | D15: =[1]ÖKD!E$33 -> 0 | E15: =[1]ÖKD!F$33 -> 0 | G15: =[1]ÖKD!G$33 -> 0 | H15: =[1]ÖKD!H$33 -> 0 | I15: =[1]ÖKD!I$33 -> 0 | J15: =[1]ÖKD!J$33 -> 0 | K15: =[1]ÖKD!K$33 -> 0 | L15: =[1]ÖKD!L$33 -> 15702728 | M15: =+SUM(B15:L15) -> 15702728 | N15: =[1]ÖKD!$M$33-M15 -> 0
A16: Diğer kapsamlı gelir / (gider) | B16: =[1]ÖKD!C$34 -> 0 | C16: =[1]ÖKD!D$34 -> 0 | D16: =[1]ÖKD!E$34 -> 0 | E16: =[1]ÖKD!F$34 -> -537451 | G16: =[1]ÖKD!G$34 -> 85654 | H16: =[1]ÖKD!H$34 -> 809165 | I16: =[1]ÖKD!I$34 -> -3829351 | J16: =[1]ÖKD!J$34 -> 0 | K16: =[1]ÖKD!K$34 -> 0 | L16: =[1]ÖKD!L$34 -> 0 | M16: =+SUM(B16:L16) -> -3471983 | N16: =[1]ÖKD!$M$34-M16 -> 0
A17: Toplam kapsamlı gelir | B17: =+SUM(B15:B16) -> 0 | C17: =+SUM(C15:C16) -> 0 | D17: =+SUM(D15:D16) -> 0 | E17: =+SUM(E15:E16) -> -537451 | F17: =+SUM(F15:F16) -> 0 | G17: =+SUM(G15:G16) -> 85654 | H17: =+SUM(H15:H16) -> 809165 | I17: =+SUM(I15:I16) -> -3829351 | J17: 0 | K17: 0 | L17: =+SUM(L15:L16) -> 15702728 | M17: =+SUM(B17:L17) -> 12230745 | N17: =[1]ÖKD!$M$36-M17 -> 0
A18: Transferler | B18: =[1]ÖKD!C$37 -> 0 | C18: =[1]ÖKD!D$37 -> 0 | D18: =[1]ÖKD!E$37 -> 0 | E18: =[1]ÖKD!F$37 -> 0 | G18: =[1]ÖKD!G$37 -> 0 | H18: =[1]ÖKD!H$37 -> 0 | I18: =[1]ÖKD!I$37 -> 0 | J18: =[1]ÖKD!J$37 -> 0 | K18: =[1]ÖKD!K$37 -> 61189589 | L18: =[1]ÖKD!L$37 -> -61189589 | M18: =+SUM(B18:L18) -> 0 | N18: =[1]ÖKD!$M$37-M18 -> 0
A19: Kar payları | B19: =[1]ÖKD!C$38 -> 0 | C19: =[1]ÖKD!D$38 -> 0 | D19: =[1]ÖKD!E$38 -> 0 | E19: =[1]ÖKD!F$38 -> 0 | G19: =[1]ÖKD!G$38 -> 0 | H19: =[1]ÖKD!H$38 -> 0 | I19: =[1]ÖKD!I$38 -> 0 | J19: =[1]ÖKD!J$38 -> 1594543 | K19: =[1]ÖKD!K$38 -> -17558405 | L19: =[1]ÖKD!L$38 -> 0 | M19: =+SUM(B19:L19) -> -15963862 | N19: =[1]ÖKD!$M$38-M19 -> 0
A20: 30 Haziran 2024 itibarıyla bakiyeler | B20: =+B13+B17+B18+B19 -> 350910 | C20: =+C13+C17+C18+C19 -> 7347525 | D20: =+D13+D17+D18+D19 -> 8 | E20: =+E13+E17+E18+E19 -> -2203500 | G20: =+G13+G17+G18+G19 -> 226325 | H20: =+H13+H17+H18+H19 -> -22516872 | I20: =+I13+I17+I18+I19 -> -4599717 | J20: =+J13+J17+J18+J19 -> 8932000 | K20: =+K13+K17+K18+K19 -> 84093439 | L20: =+L13+L17+L18+L19 -> 15702728 | M20: =+M13+M17+M18+M19 -> 87332846 | N20: =[1]ÖKD!$M$40-M20 -> 0
B23: =[1]ÖKD!C$40-B20 -> 0 | C23: =[1]ÖKD!D$40-C20 -> 0 | D23: =[1]ÖKD!E$40-D20 -> 0 | E23: =[1]ÖKD!F$40-E20 -> 0 | G23: =[1]ÖKD!G$40-G20 -> 0 | H23: =[1]ÖKD!H$40-H20 -> 0 | I23: =[1]ÖKD!I$40-I20 -> 0 | J23: =[1]ÖKD!J$40-J20 -> 0 | K23: =[1]ÖKD!K$40-K20 -> 0 | L23: =[1]ÖKD!L$40-L20 -> 0 | M23: =[1]ÖKD!M$40-M20 -> 0

Sheet Nakit Akım Tablosu
A1: Ford Otomotiv Sanayi A.Ş. 1 Ocak - 30 Haziran 2024 ve 2023 hesap dönemlerine ait nakit akış tabloları
A2: (Tutarlar, aksi belirtilmedikçe, bin Türk Lirası (“TL”) olarak Türk Lirasının 30 Haziran 2024 tarihindeki alım gücü ile ifade edilmiştir.) | B2: Notlar
C3: 45473 | D3: 45107
E4: Check | F4: Check
A5: İşletme Faaliyetlerinden Nakit Akışları | C5: =[1]NA!$D$5 -> 3724924 | D5: =[1]NA!$E$5 -> 37197328 | E5: =[1]NA!$D$5-C5 -> 0 | F5: =[1]NA!$E$5-D5 -> 0
A6: Dönem karı | C6: ='Kapsamlı Gelir Tablosu '!C5 -> 15702728 | D6: ='Kapsamlı Gelir Tablosu '!E5 -> 19397035
A7: Dönem Net Karı Mutabakatı İle İlgili Düzeltmeler | C7: =+SUM(C8:C23) -> 3766656 | D7: =+SUM(D8:D23) -> 17412212
A8: Amortisman ve itfa gideri ile ilgili düzeltmeler | C8: =[1]NA!$D$11 -> 4429333 | D8: =[1]NA!$E$11 -> 4375797
A9: Stok değer düşüklüğü ile ilgili düzeltmeler | B9: 7 | C9: =[1]NA!$D$12 -> 507186 | D9: =[1]NA!$E$12 -> -26408
A10: Çalışanlara sağlanan faydalara ilişkin karşılıklar ile ilgili düzeltmeler | C10: =[1]NA!$D$13 -> -884595 | D10: =[1]NA!$E$13 -> 1821634
A11: Dava ve / veya ceza karşılıkları ile ilgili düzeltmeler | B11: 11 | C11: =[1]NA!$D$14 -> 86641 | D11: =[1]NA!$E$14 -> 41297
A12: Garanti karşılıkları ile ilgili düzeltmeler | B12: 11 | C12: =[1]NA!$D$15 -> 1255317 | D12: =[1]NA!$E$15 -> 1822357
A13: Diğer karşılıklar ile ilgili düzeltmeler | C13: =[1]NA!$D$16 -> 181340 | D13: =[1]NA!$E$16 -> 234692
A14: Kar payı geliri ile ilgili düzeltmeler | C14: 0 | D14: 0
A15: Faiz gelirleri ile ilgili düzeltmeler | B15: 17 | C15: =[1]NA!$D$18 -> -1315020 | D15: =[1]NA!$E$18 -> -1638831
A16: Faiz giderleri ile ilgili düzeltmeler | B16: 18 | C16: =[1]NA!$D$19 -> 4993786 | D16: =[1]NA!$E$19 -> 3367847
A17: Vergi gideri ile ilgili düzeltmeler | B17: 19 | C17: =[1]NA!$D$20 -> -166051 | D17: =[1]NA!$E$20 -> 5341096
A18: Vadeli satışlardan kaynaklanan kazanılmamış finansman geliri | B18: 16 | C18: =[1]NA!$D$21 -> -3250711 | D18: =[1]NA!$E$21 -> -1822487
A19: Vadeli alımlardan kaynaklanan ertelenmiş finansman gideri | B19: 16 | C19: =[1]NA!$D$22 -> 4622393 | D19: =[1]NA!$E$22 -> 2725839 | E19: =[1]NA!$D$22-C19 -> 0 | F19: =[1]NA!$E$22-D19 -> 0
A20: Duran varlıkların elden çıkarılmasından kaynaklanan kayıplar ile ilgili düzeltmeler | C20: =[1]NA!$D$23 -> 0 | D20: =[1]NA!$E$23 -> 2450
A21: Gerçekleşmemiş yabancı para çevrim farkları | C21: =[1]NA!$D$24 -> 2251670 | D21: =[1]NA!$E$24 -> -696303
A22: Yatırım ya da finansman faaliyetlerinden kaynaklanan nakit akışlarına neden olan diğer kalemlere ilişkin düzeltmeler | C22: =[1]NA!$D$25 -> 6494303 | D22: =[1]NA!$E$25 -> 8804175
A23: Parasal (kazanç) / kayıp | C23: =[1]NA!$D$26 -> -15438936 | D23: =[1]NA!$E$26 -> -6940943
A25: İşletme Sermayesinde Gerçekleşen Değişimler | C25: =+SUM(C27:C32) -> -12860764 | D25: =+SUM(D27:D32) -> 4330681 | E25: =[1]NA!$D$30-C25 -> 0 | F25: =[1]NA!$E$30-D25 -> 0
A27: Ticari alacaklardaki (artış) / azalış ile ilgili düzeltmeler | C27: =[1]NA!$D$31 -> 2436803 | D27: =[1]NA!$E$31 -> 1350405
A28: Stoklardaki (artışlar) / azalışlar ile ilgili düzeltmeler | C28: =[1]NA!$D$32 -> -15028362 | D28: =[1]NA!$E$32 -> -6549541
A29: Peşin ödenmiş giderlerdeki (artış) / azalış | C29: =[1]NA!$D$33 -> -557745 | D29: =[1]NA!$E$33 -> -860133 | E29: =[1]NA!$D$33-C29 -> 0 | F29: =[1]NA!$E$33-D29 -> 0
A30: Ticari borçlardaki artış / (azalış) ile ilgili düzeltmeler | C30: =[1]NA!$D$34 -> -7418780 | D30: =[1]NA!$E$34 -> 9716281
A31: Faaliyetlerle ilgili diğer varlıklardaki (artış) / azalış | C31: =[1]NA!$D$35 -> 8041323 | D31: =[1]NA!$E$35 -> 187982
A32: Faaliyetlerle ilgili diğer yükümlülüklerdeki artış / (azalış) | C32: =[1]NA!$D$36 -> -334003 | D32: =[1]NA!$E$36 -> 485687
A34: Faaliyetlerden Elde Edilen Nakit Akışları | C34: =+C6+C7+C25 -> 6608620 | D34: =+D6+D7+D25 -> 41139928 | E34: =[1]NA!$D$40-C34 -> 0 | F34: =[1]NA!$E$40-D34 -> 0
A36: Ödenen faiz | C36: =[1]NA!$D$44 -> -4773454 | D36: =[1]NA!$E$44 -> -2518647
A37: Alınan faiz | C37: =[1]NA!$D$45 -> 3343892 | D37: =[1]NA!$E$45 -> 1477465
A38: Çalışanlara sağlanan faydalara ilişkin karşılıklar kapsamında yapılan ödemeler | C38: =[1]NA!$D$46 -> -75022 | D38: =[1]NA!$E$46 -> -531771
A39: Diğer karşılıklara ilişkin ödemeler | B39: 11 | C39: =[1]NA!$D$47 -> -1120935 | D39: =[1]NA!$E$47 -> -878513
A40: Vergi ödemeleri | B40: 19 | C40: =[1]NA!$D$48 -> -258177 | D40: =[1]NA!$E$48 -> -1491134
A42: Yatırım Faaliyetlerinde Kullanılan Nakit Akışları | C42: =+SUM(C44:C50) -> -13224009 | D42: =+SUM(D44:D50) -> -12300157 | E42: =[1]NA!$D$51-C42 -> 0 | F42: =[1]NA!$E$51-D42 -> 0
A44: Maddi duran varlıkların satışından kaynaklanan nakit girişleri | C44: =[1]NA!$D$52 -> 100580 | D44: =[1]NA!$E$52 -> 121705
A45: Maddi duran varlık alımından kaynaklanan nakit çıkışları | B45: 8 | C45: =[1]NA!$D$53 -> -13651635 | D45: =[1]NA!$E$53 -> -6531806
A46: Maddi olmayan duran varlık alımından kaynaklanan nakit çıkışları | B46: 9 | C46: =[1]NA!$D$54 -> -1028283 | D46: =[1]NA!$E$54 -> -1808789
A47: Verilen nakit avans ve borçlar | C47: =[1]NA!$D$55 -> 1429092 | D47: =[1]NA!$E$55 -> -4026470
A48: Alınan temettüler | C48: =[6]NA!D56 -> 0 | D48: =[6]NA!E56 -> 0
A49: Bağlı ortaklıkların kontrolünün elde edilmesine yönelik ödemelere ilişkin nakit çıkışları | C49: =[6]NA!D57 -> 0 | D49: =[6]NA!E57 -> 0
A50: İştiraklerin pay alımı/sermaye artırımı sebebiyle oluşan nakit çıkışları | C50: =[1]NA!$D$58 -> -73763 | D50: =[1]NA!$E$58 -> -54797
A52: Finansman Faaliyetlerinde (Kullanılan) / Elde Edilen Nakit Akışları | C52: =+SUM(C54:C59) -> 13036991 | D52: =+SUM(D54:D59) -> 2627655 | E52: =[1]NA!$D$62-C52 -> 0 | F52: =[1]NA!$E$62-D52 -> 0
A54: Borçlanmadan kaynaklanan nakit girişleri | B54: 5 | C54: =[1]NA!$D$63 -> 51518215 | D54: =[1]NA!$E$63 -> 24555005
A55: Borç ödemelerine ilişkin nakit çıkışları | B55: 5 | C55: =[1]NA!$D$66 -> -18654788 | D55: =[1]NA!$E$66 -> -11571190
A56: Ödenen temettüler | C56: =[1]NA!$D$67 -> -15963862 | D56: =[1]NA!$E$67 -> -9133707
A57: Ödenen faiz | C57: =[1]NA!$D$68 -> -4975837 | D57: =[1]NA!$E$68 -> -2592419
A58: Alınan faiz | C58: =[1]NA!$D$69 -> 1331052 | D58: =[1]NA!$E$69 -> 1479997
A59: Kira sözleşmelerinden kaynaklanan borç ödemelerine ilişkin nakit çıkışları | B59: 5 | C59: =[1]NA!$D$70 -> -217789 | D59: =[1]NA!$E$70 -> -110031
A61: Yabancı para çevirim farklarının etkisinden önce nakit ve nakit benzerlerindeki net (azalış) / artış | C61: =+C5+C42+C52 -> 3537906 | D61: =+D5+D42+D52 -> 27524826 | E61: =[1]NA!$D$74-C61 -> 0 | F61: =[1]NA!$E$74-D61 -> 0
A62: Nakit ve nakit benzerleri üzerindeki parasal (kayıp) | C62: =[1]NA!$D$75 -> -4683220 | D62: =[1]NA!$E$75 -> -4199255
A63: Yabancı para çevirim farklarının nakit ve nakit benzerleri üzerindeki etkisi | C63: =[1]NA!$D$77 -> 25933 | D63: =[1]NA!$E$77 -> 322301
A64: Nakit ve nakit benzerlerindeki net (azalış) / artış | C64: =[1]NA!$D$78 -> -1119381 | D64: =[1]NA!$E$78 -> 23647872
A66: Dönem başı nakit ve nakit benzerleri | C66: =[1]NA!$D$79 -> 18951973 | D66: =[1]NA!$E$79 -> 20778266
A68: Dönem sonu nakit ve nakit benzerleri | C68: =+C61+C66+C63+C62 -> 17832592 | D68: =+D61+D66+D63+D62 -> 44426138 | E68: =[1]NA!$D$80-C68 -> 0 | F68: =[1]NA!$E$80-D68 -> 0
