Workbook
Name OLE_LINK1: 'Changes In Equity'!#REF!
Name OLE_LINK41: Liabilities!#REF!
Name OLE_LINK49: Liabilities!#REF!
Name OLE_LINK50: Liabilities!#REF!
Name OLE_LINK52: Liabilities!#REF!
Name OLE_LINK54: Liabilities!#REF!
Name OLE_LINK55: Liabilities!#REF!
Name OLE_LINK58: Liabilities!#REF!
Name OLE_LINK61: Liabilities!#REF!
Name OLE_LINK62: Liabilities!#REF!
Name OLE_LINK64: Liabilities!#REF!

Sheet Assets
A1: Ford Otomotiv Sanayi A.Ş. Statement of financial position as of 30 June 2024 and 31 December 2023
C2: Current Period Limited Reviewed | D2: Prior period Audited
A3: Turkish Lira (thousand TL) stated as according to the purchasing power of Turkish Lira on 30 June 2024 | B3: Notes | C3: 30 June 2024 | D3: 31 December 2023
A4: Assets
A5: Current assets | C5: =SUM(C7:C19) -> 136598668 | D5: =SUM(D7:D19) -> 128377716 | E5: =[1]Varlıklar!$C5-C5 -> 0 | F5: =[1]Varlıklar!$D5-D5 -> 0
E6: =[1]Varlıklar!$C6-C6 -> 0 | F6: =[1]Varlıklar!$D6-D6 -> 0
A7: Cash and cash equivalents | C7: ='[2]Bilanço A'!$N$16 -> 17854870 | D7: ='[2]Bilanço A'!$O$16 -> 18990283 | E7: =[1]Varlıklar!$C7-C7 -> 0 | F7: =[1]Varlıklar!$D7-D7 -> 0
A8: Trade receivables | E8: =[1]Varlıklar!$C8-C8 -> 0 | F8: =[1]Varlıklar!$D8-D8 -> 0
A9: - Due from related parties | B9: 21 | C9: ='[2]Bilanço A'!$N$19 -> 40263923 | D9: ='[2]Bilanço A'!$O$19 -> 31505217 | E9: =[1]Varlıklar!$C9-C9 -> 0 | F9: =[1]Varlıklar!$D9-D9 -> 0
A10: - Due from third parties | B10: 6 | C10: ='[2]Bilanço A'!$N$20 -> 14336751 | D10: ='[2]Bilanço A'!$O$20 -> 25361080 | E10: =[1]Varlıklar!$C10-C10 -> 0 | F10: =[1]Varlıklar!$D10-D10 -> 0
A11: Other receivables | E11: =[1]Varlıklar!$C11-C11 -> 0 | F11: =[1]Varlıklar!$D11-D11 -> 0
A12: - Due from related parties | B12: 21 | C12: ='[2]Bilanço A'!$N$22 -> 1771611 | D12: ='[2]Bilanço A'!$O$22 -> 1489549 | E12: =[1]Varlıklar!$C12-C12 -> 0 | F12: =[1]Varlıklar!$D12-D12 -> 0
A13: - Due from third parties | C13: ='[2]Bilanço A'!$N$23 -> 470086 | D13: ='[2]Bilanço A'!$O$23 -> 253495 | E13: =[1]Varlıklar!$C13-C13 -> 0 | F13: =[1]Varlıklar!$D13-D13 -> 0
A14: Contract assets from sale of goods and service contracts | C14: ='[2]Bilanço A'!$N$24 -> 691806 | D14: ='[2]Bilanço A'!$O$24 -> 1412846 | E14: =[1]Varlıklar!$C14-C14 -> 0 | F14: =[1]Varlıklar!$D14-D14 -> 0
A15: Inventories | B15: 7 | C15: ='[2]Bilanço A'!$N$25 -> 51133871 | D15: ='[2]Bilanço A'!$O$25 -> 36612578 | E15: =[1]Varlıklar!$C15-C15 -> 0 | F15: =[1]Varlıklar!$D15-D15 -> 0
A16: Prepaid expenses | B16: 10 | C16: ='[2]Bilanço A'!$N$26 -> 3009531 | D16: ='[2]Bilanço A'!$O$26 -> 2398950 | E16: =[1]Varlıklar!$C16-C16 -> 0 | F16: =[1]Varlıklar!$D16-D16 -> 0
A17: Other current assets | C17: ='[2]Bilanço A'!$N$27 -> 7066219 | D17: ='[2]Bilanço A'!$O$27 -> 10315861 | E17: =[1]Varlıklar!$C17-C17 -> 0 | F17: =[1]Varlıklar!$D17-D17 -> 0
A18: Current tax assets | B18: 19 | C18: ='[2]Bilanço A'!$N$28 -> 0 | D18: ='[2]Bilanço A'!$O$28 -> 0 | E18: =[1]Varlıklar!$C18-C18 -> 0 | F18: =[1]Varlıklar!$D18-D18 -> 0
A19: Derivative financial assets | B19: 22.23 | C19: ='[2]Bilanço A'!$N$29 -> 0 | D19: ='[2]Bilanço A'!$O$29 -> 37857 | E19: =[1]Varlıklar!$C19-C19 -> 0 | F19: =[1]Varlıklar!$D19-D19 -> 0
E20: =[1]Varlıklar!$C20-C20 -> 0 | F20: =[1]Varlıklar!$D20-D20 -> 0
A21: Non-current assets | C21: =SUM(C23:C37) -> 141840296 | D21: =SUM(D23:D37) -> 142306003 | E21: =[1]Varlıklar!$C21-C21 -> 0 | F21: =[1]Varlıklar!$D21-D21 -> 0
E22: =[1]Varlıklar!$C22-C22 -> 0 | F22: =[1]Varlıklar!$D22-D22 -> 0
A23: Financial assets | B23: 4 | C23: ='[2]Bilanço A'!$N$37 -> 567424 | D23: ='[2]Bilanço A'!$O$37 -> 434108 | E23: =[1]Varlıklar!$C23-C23 -> 0 | F23: =[1]Varlıklar!$D23-D23 -> 0
A24: Trade receivables | E24: =[1]Varlıklar!$C24-C24 -> 0 | F24: =[1]Varlıklar!$D24-D24 -> 0
A25: - Due from third parties | B25: 6 | C25: ='[2]Bilanço A'!$N$39 -> 701 | D25: ='[2]Bilanço A'!$O$39 -> 20820 | E25: =[1]Varlıklar!$C25-C25 -> 0 | F25: =[1]Varlıklar!$D25-D25 -> 0
A26: Other receivables | E26: =[1]Varlıklar!$C26-C26 -> 0 | F26: =[1]Varlıklar!$D26-D26 -> 0
A27: - Due from related parties | B27: 21 | C27: ='[2]Bilanço A'!$N$41 -> 12390575 | D27: ='[2]Bilanço A'!$O$41 -> 12318327 | E27: =[1]Varlıklar!$C27-C27 -> 0 | F27: =[1]Varlıklar!$D27-D27 -> 0
A28: Property, plant and equipment | B28: 8 | C28: ='[2]Bilanço A'!$N$42 -> 76155113 | D28: ='[2]Bilanço A'!$O$42 -> 71345262 | E28: =[1]Varlıklar!$C28-C28 -> 0 | F28: =[1]Varlıklar!$D28-D28 -> 0
A29: Intangible assets | E29: =[1]Varlıklar!$C29-C29 -> 0 | F29: =[1]Varlıklar!$D29-D29 -> 0
A30: - Other Intangible Assets | B30: 9 | C30: ='[2]Bilanço A'!$N$44 -> 17643618 | D30: ='[2]Bilanço A'!$O$44 -> 22401227 | E30: =[1]Varlıklar!$C30-C30 -> 0 | F30: =[1]Varlıklar!$D30-D30 -> 0
A31: - Goodwill | C31: ='[2]Bilanço A'!$N$45 -> 882784 | D31: ='[2]Bilanço A'!$O$45 -> 1021653 | E31: =[1]Varlıklar!$C31-C31 -> 0 | F31: =[1]Varlıklar!$D31-D31 -> 0
A32: The right-of- use assets | C32: ='[2]Bilanço A'!$N$46 -> 1328067 | D32: ='[2]Bilanço A'!$O$46 -> 1216913 | E32: =[1]Varlıklar!$C32-C32 -> 0 | F32: =[1]Varlıklar!$D32-D32 -> 0
A33: Prepaid expenses | B33: 10 | C33: ='[2]Bilanço A'!$N$47 -> 15233244 | D33: ='[2]Bilanço A'!$O$47 -> 16715172 | E33: =[1]Varlıklar!$C33-C33 -> 0 | F33: =[1]Varlıklar!$D33-D33 -> 0
A34: Deferred tax asset | B34: 19 | C34: ='[2]Bilanço A'!$N$48 -> 17075255 | D34: ='[2]Bilanço A'!$O$48 -> 16232221 | E34: =[1]Varlıklar!$C34-C34 -> 0 | F34: =[1]Varlıklar!$D34-D34 -> 0
A35: Investments in associates and joint ventures | C35: ='[2]Bilanço A'!$N$49 -> 230227 | D35: ='[2]Bilanço A'!$O$49 -> 156464 | E35: =[1]Varlıklar!$C36-C35 -> 0 | F35: =[1]Varlıklar!$D36-D35 -> 0
A36: Derivative financial instruments | B36: 22.23 | C36: ='[2]Bilanço A'!$N$50 -> 333288 | D36: ='[2]Bilanço A'!$O$50 -> 443836 | E36: =[1]Varlıklar!$C37-C36 -> 0 | F36: =[1]Varlıklar!$D37-D36 -> 0
A37: Other non-current assets | E37: =[1]Varlıklar!$C38-C37 -> 0 | F37: =[1]Varlıklar!$D38-D37 -> 0
E38: =[1]Varlıklar!$C38-C38 -> 0 | F38: =[1]Varlıklar!$D38-D38 -> 0
A39: Total assets | C39: =+C5+C21 -> 278438964 | D39: =+D5+D21 -> 270683719 | E39: =[1]Varlıklar!$C40-C39 -> 0 | F39: =[1]Varlıklar!$D40-D39 -> 0

Sheet Liabilities
A1: =+Assets!A1 -> Ford Otomotiv Sanayi A.Ş. Statement of financial position as of 30 June 2024 and 31 December 2023
C2: =Assets!C2 -> Current Period Limited Reviewed | D2: =Assets!D2 -> Prior period Audited
A3: =+Assets!A3 -> Turkish Lira (thousand TL) stated as according to the purchasing power of Turkish Lira on 30 June 2024 | B3: Notes | C3: =+Assets!C3 -> 30 June 2024 | D3: =+Assets!D3 -> 31 December 2023
A4: Liabilities
A5: Current liabilities | C5: =SUM(C8:C25) -> 115931558 | D5: =SUM(D8:D25) -> 117417927 | E5: =[1]Kaynaklar!$C5-C5 -> 0 | F5: =[1]Kaynaklar!$D5-D5 -> 0
E6: =[1]Kaynaklar!$C6-C6 -> 0 | F6: =[1]Kaynaklar!$D6-D6 -> 0
A7: Current borrowings | E7: =[1]Kaynaklar!$C7-C7 -> 0 | F7: =[1]Kaynaklar!$D7-D7 -> 0
A8: - Bank borrowings | B8: 5 | C8: ='[2]Bilanço P'!$L$19 -> 19641365 | D8: ='[2]Bilanço P'!$M$19 -> 24502275 | E8: =[1]Kaynaklar!$C8-C8 -> 0 | F8: =[1]Kaynaklar!$D8-D8 -> 0
A9: Short- term portion of long-term borrowings | E9: =[1]Kaynaklar!$C9-C9 -> 0 | F9: =[1]Kaynaklar!$D9-D9 -> 0
A10: - Bank borrowings | B10: 5 | C10: ='[2]Bilanço P'!$L$21 -> 18738598 | D10: ='[2]Bilanço P'!$M$21 -> 17645216 | E10: =[1]Kaynaklar!$C10-C10 -> 0 | F10: =[1]Kaynaklar!$D10-D10 -> 0
A11: - Issued debt instruments | B11: 5 | C11: =+'[2]Bilanço P'!$L$22 -> 1123660 | D11: =+'[2]Bilanço P'!$M$22 -> 0 | E11: =[1]Kaynaklar!$C11-C11 -> 0 | F11: =[1]Kaynaklar!$D11-D11 -> 0
A12: - Lease liabilities | B12: 5 | C12: ='[2]Bilanço P'!$L$23 -> 174968 | D12: ='[2]Bilanço P'!$M$23 -> 217322 | E12: =[1]Kaynaklar!$C12-C12 -> 0 | F12: =[1]Kaynaklar!$D12-D12 -> 0
A13: - Other short term borrowings | B13: 5 | C13: =+'[2]Bilanço P'!$L$24 -> 6741333 | D13: =+'[2]Bilanço P'!$M$24 -> 0 | E13: =[1]Kaynaklar!$C13-C13 -> 0 | F13: =[1]Kaynaklar!$D13-D13 -> 0
A14: Trade payables | E14: =[1]Kaynaklar!$C14-C14 -> 0 | F14: =[1]Kaynaklar!$D14-D14 -> 0
A15: - Due to related parties | B15: 21 | C15: ='[2]Bilanço P'!$L$26 -> 8885802 | D15: ='[2]Bilanço P'!$M$26 -> 12285393 | E15: =[1]Kaynaklar!$C15-C15 -> 0 | F15: =[1]Kaynaklar!$D15-D15 -> 0
A16: - Due to third parties | B16: 6 | C16: ='[2]Bilanço P'!$L$27 -> 49355603 | D16: ='[2]Bilanço P'!$M$27 -> 53281611 | E16: =[1]Kaynaklar!$C16-C16 -> 0 | F16: =[1]Kaynaklar!$D16-D16 -> 0
A17: Other payables | E17: =[1]Kaynaklar!$C17-C17 -> 0 | F17: =[1]Kaynaklar!$D17-D17 -> 0
A18: - Due to related parties | B18: 21 | C18: ='[2]Bilanço P'!$L$29 -> 4055 | D18: ='[2]Bilanço P'!$M$29 -> 780363 | E18: =[1]Kaynaklar!$C18-C18 -> 0 | F18: =[1]Kaynaklar!$D18-D18 -> 0
A19: - Due to third parties | C19: ='[2]Bilanço P'!$L$30 -> 1622264 | D19: ='[2]Bilanço P'!$M$30 -> 1251808 | E19: =[1]Kaynaklar!$C19-C19 -> 0 | F19: =[1]Kaynaklar!$D19-D19 -> 0
A20: Deferred revenue | C20: ='[2]Bilanço P'!$L$31 -> 4040902 | D20: ='[2]Bilanço P'!$M$31 -> 730192 | E20: =[1]Kaynaklar!$C20-C20 -> 0 | F20: =[1]Kaynaklar!$D20-D20 -> 0
A21: Short-term provisions | E21: =[1]Kaynaklar!$C21-C21 -> 0 | F21: =[1]Kaynaklar!$D21-D21 -> 0
A22: - Other provisions | B22: 11 | C22: ='[2]Bilanço P'!$L$33 -> 1504939 | D22: ='[2]Bilanço P'!$M$33 -> 1588836 | E22: =[1]Kaynaklar!$C22-C22 -> 0 | F22: =[1]Kaynaklar!$D22-D22 -> 0
A23: Employee benefit liabilities | C23: ='[2]Bilanço P'!$L$34 -> 3851578 | D23: ='[2]Bilanço P'!$M$34 -> 5042844 | E23: =[1]Kaynaklar!$C23-C23 -> 0 | F23: =[1]Kaynaklar!$D23-D23 -> 0
A24: Current tax liabilities | B24: 19 | C24: ='[2]Bilanço P'!$L$35 -> 97337 | D24: ='[2]Bilanço P'!$M$35 -> 92067 | E24: =[1]Kaynaklar!$C24-C24 -> 0 | F24: =[1]Kaynaklar!$D24-D24 -> 0
A25: Derivative financial liabilities | B25: 22.23 | C25: ='[2]Bilanço P'!$L$36 -> 149154 | D25: ='[2]Bilanço P'!$M$36 -> 0 | E25: =[1]Kaynaklar!$C25-C25 -> 0 | F25: =[1]Kaynaklar!$D25-D25 -> 0
E26: =[1]Kaynaklar!$C26-C26 -> 0 | F26: =[1]Kaynaklar!$D26-D26 -> 0
A27: Non-current liabilities | C27: =SUM(C29:C40) -> 75174560 | D27: =SUM(D29:D40) -> 62199829 | E27: =[1]Kaynaklar!$C27-C27 -> 0 | F27: =[1]Kaynaklar!$D27-D27 -> 0
E28: =[1]Kaynaklar!$C28-C28 -> 0 | F28: =[1]Kaynaklar!$D28-D28 -> 0
A29: Long Term Borrowings | E29: =[1]Kaynaklar!$C29-C29 -> 0 | F29: =[1]Kaynaklar!$D29-D29 -> 0
A30: - Bank borrowings | B30: 5 | C30: ='[2]Bilanço P'!$L$46 -> 45848512 | D30: ='[2]Bilanço P'!$M$46 -> 37970292 | E30: =[1]Kaynaklar!$C30-C30 -> 0 | F30: =[1]Kaynaklar!$D30-D30 -> 0
A31: - Issued debt instruments | B31: 5 | C31: =+'[2]Bilanço P'!$L$47 -> 15472924 | D31: =+'[2]Bilanço P'!$M$47 -> 0 | E31: =[1]Kaynaklar!$C31-C31 -> 0 | F31: =[1]Kaynaklar!$D31-D31 -> 0
A32: - Lease liabilities | B32: 5 | C32: ='[2]Bilanço P'!$L$48 -> 953051 | D32: ='[2]Bilanço P'!$M$48 -> 860844 | E32: =[1]Kaynaklar!$C32-C32 -> 0 | F32: =[1]Kaynaklar!$D32-D32 -> 0
A33: -Other long term borrowings | B33: 5 | C33: ='[2]Bilanço P'!$L$49 -> 4867742 | D33: ='[2]Bilanço P'!$M$49 -> 13297092 | E33: =[1]Kaynaklar!$C33-C33 -> 0 | F33: =[1]Kaynaklar!$D33-D33 -> 0
A34: Long-term provisions | E34: =[1]Kaynaklar!$C34-C34 -> 0 | F34: =[1]Kaynaklar!$D34-D34 -> 0
A35: - Provision for employment termination benefits | C35: ='[2]Bilanço P'!$L$52 -> 3071216 | D35: ='[2]Bilanço P'!$M$52 -> 2298923 | E35: =[1]Kaynaklar!$C35-C35 -> 0 | F35: =[1]Kaynaklar!$D35-D35 -> 0
A36: - Other provisions | B36: 11 | C36: ='[2]Bilanço P'!$L$53 -> 1615706 | D36: ='[2]Bilanço P'!$M$53 -> 1715034 | E36: =[1]Kaynaklar!$C36-C36 -> 0 | F36: =[1]Kaynaklar!$D36-D36 -> 0
A37: Deferred revenue | C37: ='[2]Bilanço P'!$L$54 -> 2035634 | D37: ='[2]Bilanço P'!$M$54 -> 4688907 | E37: =[1]Kaynaklar!$C37-C37 -> 0 | F37: =[1]Kaynaklar!$D37-D37 -> 0
A38: Deferred tax liabilities | B38: 19 | C38: =+'[2]Bilanço P'!$L$56 -> 1170835 | D38: =+'[2]Bilanço P'!$M$56 -> 1165178 | E38: =[1]Kaynaklar!$C40-C38 -> 0 | F38: =[1]Kaynaklar!$D40-D38 -> 0
A39: Derivative financial liabilities | B39: 22.23 | C39: =+'[2]Bilanço P'!$L$57 -> 138940 | D39: ='[2]Bilanço P'!$M$57 -> 203559 | E39: =[1]Kaynaklar!$C39-C39 -> 0 | F39: =[1]Kaynaklar!$D39-D39 -> 0
A42: Equity | C42: =SUM(C44:C55) -> 87332846 | D42: =SUM(D44:D55) -> 91065963 | E42: =[1]Kaynaklar!$C42-C42 -> 0 | F42: =[1]Kaynaklar!$D42-D42 -> 0
...

Sheet Profit or Loss 
A1: Ford Otomotiv Sanayi A.Ş. Statement of profit or loss for the periods ended 30 June 2024 and 2023
C2: Limited Reviewed | D2: Not Reviewed | E2: =+C2 -> Limited Reviewed | F2: =+D2 -> Not Reviewed
A3: =+Assets!A3 -> Turkish Lira (thousand TL) stated as according to the purchasing power of Turkish Lira on 30 June 2024 | B3: Notes | C3: 1 January - 30 June 2024 | D3: 1 April - 30 June 2024 | E3: 1 January - 30 June 2023 | F3: 1 April - 30 June 2023
A5: Continued operations
A6: Revenue | B6: 14 | C6: =+'[2]Gelir Tablosu'!N10 -> 241404349 | D6: =+'[2]Gelir Tablosu'!O10 -> 106778529 | E6: =+'[2]Gelir Tablosu'!P10 -> 253193541 | F6: =+'[2]Gelir Tablosu'!Q10 -> 130017880 | G6: ='[1]Gelir Tablosu '!C6-C6 -> 0 | H6: ='[1]Gelir Tablosu '!D6-D6 -> 0 | I6: ='[1]Gelir Tablosu '!E6-E6 -> 0 | J6: ='[1]Gelir Tablosu '!F6-F6 -> 0
A7: Cost of sales | B7: 14 | C7: =+'[2]Gelir Tablosu'!N11 -> -216765012 | D7: =+'[2]Gelir Tablosu'!O11 -> -96466132 | E7: =+'[2]Gelir Tablosu'!P11 -> -219854622 | F7: =+'[2]Gelir Tablosu'!Q11 -> -111900638 | G7: ='[1]Gelir Tablosu '!C7-C7 -> 0 | H7: ='[1]Gelir Tablosu '!D7-D7 -> 0 | I7: ='[1]Gelir Tablosu '!E7-E7 -> 0 | J7: ='[1]Gelir Tablosu '!F7-F7 -> 0
G8: ='[1]Gelir Tablosu '!C8-C8 -> 0 | H8: ='[1]Gelir Tablosu '!D8-D8 -> 0 | I8: ='[1]Gelir Tablosu '!E8-E8 -> 0 | J8: ='[1]Gelir Tablosu '!F8-F8 -> 0
A9: Gross profit | C9: =+SUM(C6:C7) -> 24639337 | D9: =+SUM(D6:D7) -> 10312397 | E9: =+SUM(E6:E7) -> 33338919 | F9: =+SUM(F6:F7) -> 18117242 | G9: ='[1]Gelir Tablosu '!C9-C9 -> 0 | H9: ='[1]Gelir Tablosu '!D9-D9 -> 0 | I9: ='[1]Gelir Tablosu '!E9-E9 -> 0 | J9: ='[1]Gelir Tablosu '!F9-F9 -> 0
G10: ='[1]Gelir Tablosu '!C10-C10 -> 0 | H10: ='[1]Gelir Tablosu '!D10-D10 -> 0 | I10: ='[1]Gelir Tablosu '!E10-E10 -> 0 | J10: ='[1]Gelir Tablosu '!F10-F10 -> 0
A11: Marketing expenses | C11: =+'[2]Gelir Tablosu'!N13 -> -4126938 | D11: =+'[2]Gelir Tablosu'!O13 -> -2034719 | E11: =+'[2]Gelir Tablosu'!P13 -> -3994100 | F11: =+'[2]Gelir Tablosu'!Q13 -> -2506482 | G11: ='[1]Gelir Tablosu '!C11-C11 -> 0 | H11: ='[1]Gelir Tablosu '!D11-D11 -> 0 | I11: ='[1]Gelir Tablosu '!E11-E11 -> 0 | J11: ='[1]Gelir Tablosu '!F11-F11 -> 0
A12: General administrative expenses | C12: =+'[2]Gelir Tablosu'!N14 -> -3871421 | D12: =+'[2]Gelir Tablosu'!O14 -> -1756028 | E12: =+'[2]Gelir Tablosu'!P14 -> -3478725 | F12: =+'[2]Gelir Tablosu'!Q14 -> -1845076 | G12: ='[1]Gelir Tablosu '!C12-C12 -> 0 | H12: ='[1]Gelir Tablosu '!D12-D12 -> 0 | I12: ='[1]Gelir Tablosu '!E12-E12 -> 0 | J12: ='[1]Gelir Tablosu '!F12-F12 -> 0
A13: Research and development expenses | C13: =+'[2]Gelir Tablosu'!N15 -> -3067785 | D13: =+'[2]Gelir Tablosu'!O15 -> -1605367 | E13: =+'[2]Gelir Tablosu'!P15 -> -3671948 | F13: =+'[2]Gelir Tablosu'!Q15 -> -2138852 | G13: ='[1]Gelir Tablosu '!C13-C13 -> 0 | H13: ='[1]Gelir Tablosu '!D13-D13 -> 0 | I13: ='[1]Gelir Tablosu '!E13-E13 -> 0 | J13: ='[1]Gelir Tablosu '!F13-F13 -> 0
A14: Other income from operating activities | B14: 16 | C14: =+'[2]Gelir Tablosu'!N16 -> 5912943 | D14: =+'[2]Gelir Tablosu'!O16 -> 1927402 | E14: =+'[2]Gelir Tablosu'!P16 -> 11897369 | F14: =+'[2]Gelir Tablosu'!Q16 -> 9804767 | G14: ='[1]Gelir Tablosu '!C14-C14 -> 0 | H14: ='[1]Gelir Tablosu '!D14-D14 -> 0 | I14: ='[1]Gelir Tablosu '!E14-E14 -> 0 | J14: ='[1]Gelir Tablosu '!F14-F14 -> 0
A15: Other expenses from operating activities | B15: 16 | C15: =+'[2]Gelir Tablosu'!N17 -> -5817389 | D15: =+'[2]Gelir Tablosu'!O17 -> -2811225 | E15: =+'[2]Gelir Tablosu'!P17 -> -5931875 | F15: =+'[2]Gelir Tablosu'!Q17 -> -3970396 | G15: ='[1]Gelir Tablosu '!C15-C15 -> 0 | H15: ='[1]Gelir Tablosu '!D15-D15 -> 0 | I15: ='[1]Gelir Tablosu '!E15-E15 -> 0 | J15: ='[1]Gelir Tablosu '!F15-F15 -> 0
G16: ='[1]Gelir Tablosu '!C16-C16 -> 0 | H16: ='[1]Gelir Tablosu '!D16-D16 -> 0 | I16: ='[1]Gelir Tablosu '!E16-E16 -> 0 | J16: ='[1]Gelir Tablosu '!F16-F16 -> 0
A17: Profit from operating activities | C17: =+SUM(C9:C15) -> 13668747 | D17: =+SUM(D9:D15) -> 4032460 | E17: =+SUM(E9:E15) -> 28159640 | F17: =+SUM(F9:F15) -> 17461203 | G17: ='[1]Gelir Tablosu '!C17-C17 -> 0 | H17: ='[1]Gelir Tablosu '!D17-D17 -> 0 | I17: ='[1]Gelir Tablosu '!E17-E17 -> 0 | J17: ='[1]Gelir Tablosu '!F17-F17 -> 0
G18: ='[1]Gelir Tablosu '!C18-C18 -> 0 | H18: ='[1]Gelir Tablosu '!D18-D18 -> 0 | I18: ='[1]Gelir Tablosu '!E18-E18 -> 0 | J18: ='[1]Gelir Tablosu '!F18-F18 -> 0
A19: Income from investing activities | C19: =+'[2]Gelir Tablosu'!N19 -> 1075976 | D19: =+'[2]Gelir Tablosu'!O19 -> 327737 | E19: =+'[2]Gelir Tablosu'!P19 -> 257 | F19: =+'[2]Gelir Tablosu'!Q19 -> 175 | G19: ='[1]Gelir Tablosu '!C19-C19 -> 0 | H19: ='[1]Gelir Tablosu '!D19-D19 -> 0 | I19: ='[1]Gelir Tablosu '!E19-E19 -> 0 | J19: ='[1]Gelir Tablosu '!F19-F19 -> 0
A20: Expenses from investing activities | C20: =+'[2]Gelir Tablosu'!N20 -> -5009 | D20: =+'[2]Gelir Tablosu'!O20 -> -5009 | E20: =+'[2]Gelir Tablosu'!P20 -> -2955 | F20: =+'[2]Gelir Tablosu'!Q20 -> 0 | G20: ='[1]Gelir Tablosu '!C20-C20 -> 0 | H20: ='[1]Gelir Tablosu '!D20-D20 -> 0 | I20: ='[1]Gelir Tablosu '!E20-E20 -> 0 | J20: ='[1]Gelir Tablosu '!F20-F20 -> 0
G21: ='[1]Gelir Tablosu '!C21-C21 -> 0 | H21: ='[1]Gelir Tablosu '!D21-D21 -> 0 | I21: ='[1]Gelir Tablosu '!E21-E21 -> 0 | J21: ='[1]Gelir Tablosu '!F21-F21 -> 0
A22: Operating profit before financial income/ (expense) | C22: =+SUM(C17:C20) -> 14739714 | D22: =+SUM(D17:D20) -> 4355188 | E22: =+SUM(E17:E20) -> 28156942 | F22: =+SUM(F17:F20) -> 17461378 | G22: ='[1]Gelir Tablosu '!C23-C22 -> 0 | H22: ='[1]Gelir Tablosu '!D23-D22 -> 0 | I22: ='[1]Gelir Tablosu '!E23-E22 -> 0 | J22: ='[1]Gelir Tablosu '!F23-F22 -> 0
G23: ='[1]Gelir Tablosu '!C24-C23 -> 0 | H23: ='[1]Gelir Tablosu '!D24-D23 -> 0 | I23: ='[1]Gelir Tablosu '!E24-E23 -> 0 | J23: ='[1]Gelir Tablosu '!F24-F23 -> 0
A24: Financial income | B24: 17 | C24: =+'[2]Gelir Tablosu'!N22 -> 4764867 | D24: =+'[2]Gelir Tablosu'!O22 -> 1957169 | E24: =+'[2]Gelir Tablosu'!P22 -> 9257887 | F24: =+'[2]Gelir Tablosu'!Q22 -> 6145850 | G24: ='[1]Gelir Tablosu '!C25-C24 -> 0 | H24: ='[1]Gelir Tablosu '!D25-D24 -> 0 | I24: ='[1]Gelir Tablosu '!E25-E24 -> 0 | J24: ='[1]Gelir Tablosu '!F25-F24 -> 0
A25: Financial expenses | B25: 18 | C25: =+'[2]Gelir Tablosu'!N23 -> -14535718 | D25: =+'[2]Gelir Tablosu'!O23 -> -7261322 | E25: =+'[2]Gelir Tablosu'!P23 -> -19459091 | F25: =+'[2]Gelir Tablosu'!Q23 -> -13916402 | G25: ='[1]Gelir Tablosu '!C26-C25 -> 0 | H25: ='[1]Gelir Tablosu '!D26-D25 -> 0 | I25: ='[1]Gelir Tablosu '!E26-E25 -> 0 | J25: ='[1]Gelir Tablosu '!F26-F25 -> 0
A26: Monetary gain / (loss) | C26: =+'[2]Gelir Tablosu'!N24 -> 10567814 | D26: =+'[2]Gelir Tablosu'!O24 -> 5765242 | E26: =+'[2]Gelir Tablosu'!P24 -> 6782393 | F26: =+'[2]Gelir Tablosu'!Q24 -> 3937141 | G26: ='[1]Gelir Tablosu '!C27-C26 -> 0 | H26: ='[1]Gelir Tablosu '!D27-D26 -> 0 | I26: ='[1]Gelir Tablosu '!E27-E26 -> 0 | J26: ='[1]Gelir Tablosu '!F27-F26 -> 0
G27: ='[1]Gelir Tablosu '!C28-C27 -> 0 | H27: ='[1]Gelir Tablosu '!D28-D27 -> 0 | I27: ='[1]Gelir Tablosu '!E28-E27 -> 0 | J27: ='[1]Gelir Tablosu '!F28-F27 -> 0
A28: Profit before tax from continued operations | C28: =+SUM(C22:C26) -> 15536677 | D28: =+SUM(D22:D26) -> 4816277 | E28: =+SUM(E22:E26) -> 24738131 | F28: =+SUM(F22:F26) -> 13627967 | G28: ='[1]Gelir Tablosu '!C29-C28 -> 0 | H28: ='[1]Gelir Tablosu '!D29-D28 -> 0 | I28: ='[1]Gelir Tablosu '!E29-E28 -> 0 | J28: ='[1]Gelir Tablosu '!F29-F28 -> 0
G29: ='[1]Gelir Tablosu '!C30-C29 -> 0 | H29: ='[1]Gelir Tablosu '!D30-D29 -> 0 | I29: ='[1]Gelir Tablosu '!E30-E29 -> 0 | J29: ='[1]Gelir Tablosu '!F30-F29 -> 0
A30: Tax income/ (expense) from continued operations | C30: =+SUM(C31:C32) -> 166051 | D30: =+SUM(D31:D32) -> 1159237 | E30: =+SUM(E31:E32) -> -5341096 | F30: =+SUM(F31:F32) -> -3072388 | G30: ='[1]Gelir Tablosu '!C31-C30 -> 0 | H30: ='[1]Gelir Tablosu '!D31-D30 -> 0 | I30: ='[1]Gelir Tablosu '!E31-E30 -> 0 | J30: ='[1]Gelir Tablosu '!F31-F30 -> 0
A31: Current tax expenses | B31: 19 | C31: =+'[2]Gelir Tablosu'!N27 -> -263447 | D31: =+'[2]Gelir Tablosu'!O27 -> -153867 | E31: =+'[2]Gelir Tablosu'!P27 -> -3376389 | F31: =+'[2]Gelir Tablosu'!Q27 -> -14453 | G31: ='[1]Gelir Tablosu '!C32-C31 -> 0 | H31: ='[1]Gelir Tablosu '!D32-D31 -> 0 | I31: ='[1]Gelir Tablosu '!E32-E31 -> 0 | J31: ='[1]Gelir Tablosu '!F32-F31 -> 0
A32: Deferred tax expenses | B32: 19 | C32: =+'[2]Gelir Tablosu'!N28 -> 429498 | D32: =+'[2]Gelir Tablosu'!O28 -> 1313104 | E32: =+'[2]Gelir Tablosu'!P28 -> -1964707 | F32: =+'[2]Gelir Tablosu'!Q28 -> -3057935 | G32: ='[1]Gelir Tablosu '!C33-C32 -> 0 | H32: ='[1]Gelir Tablosu '!D33-D32 -> 0 | I32: ='[1]Gelir Tablosu '!E33-E32 -> 0 | J32: ='[1]Gelir Tablosu '!F33-F32 -> 0
G33: ='[1]Gelir Tablosu '!C34-C33 -> 0 | H33: ='[1]Gelir Tablosu '!D34-D33 -> 0 | I33: ='[1]Gelir Tablosu '!E34-E33 -> 0 | J33: ='[1]Gelir Tablosu '!F34-F33 -> 0
A34: Net profit | C34: =+C28+C31+C32 -> 15702728 | D34: =+D28+D31+D32 -> 5975514 | E34: =+E28+E31+E32 -> 19397035 | F34: =+F28+F31+F32 -> 10555579 | G34: ='[1]Gelir Tablosu '!C35-C34 -> 0 | H34: ='[1]Gelir Tablosu '!D35-D34 -> 0 | I34: ='[1]Gelir Tablosu '!E35-E34 -> 0 | J34: ='[1]Gelir Tablosu '!F35-F34 -> 0
G35: ='[1]Gelir Tablosu '!C36-C35 -> 0 | H35: ='[1]Gelir Tablosu '!D36-D35 -> 0 | I35: ='[1]Gelir Tablosu '!E36-E35 -> 0 | J35: ='[1]Gelir Tablosu '!F36-F35 -> 0
A36: Earnings per share with a nominal value Kr 1 | B36: 20 | C36: =+TEXT(C34/Liabilities!$C$44,"#.##0,00") & " Kr" -> 44,75 Kr | D36: =+TEXT(D34/Liabilities!$C$44,"#.##0,00") & " Kr" -> 17,03 Kr | E36: =+TEXT(E34/Liabilities!$C$44,"#.##0,00") & " Kr" -> 55,28 Kr | F36: =+TEXT(F34/Liabilities!$C$44,"#.##0,00") & " Kr" -> 30,08 Kr

Sheet Comprehensive Income Statement
A1: Ford Otomotiv Sanayi A.Ş. Statement of other comprehensive income for the periods ended 30 June 2024 and 2023
C2: ='Profit or Loss '!C2 -> Limited Reviewed | D2: =+'Profit or Loss '!D2 -> Not Reviewed | E2: ='Profit or Loss '!E2 -> Limited Reviewed | F2: =+'Profit or Loss '!F2 -> Not Reviewed
A3: =+'Profit or Loss '!A3 -> Turkish Lira (thousand TL) stated as according to the purchasing power of Turkish Lira on 30 June 2024 | B3: Notes | C3: =+'Profit or Loss '!C3 -> 1 January - 30 June 2024 | D3: =+'Profit or Loss '!D3 -> 1 April - 30 June 2024 | E3: =+'Profit or Loss '!E3 -> 1 January - 30 June 2023 | F3: =+'Profit or Loss '!F3 -> 1 April - 30 June 2023
A5: Net profit | C5: ='Profit or Loss '!C34 -> 15702728 | D5: ='Profit or Loss '!D34 -> 5975514 | E5: ='Profit or Loss '!E34 -> 19397035 | F5: ='Profit or Loss '!F34 -> 10555579 | G5: ='[1]Kapsamlı Gelir Tablosu '!C5-C5 -> 0 | H5: ='[1]Kapsamlı Gelir Tablosu '!D5-D5 -> 0 | I5: ='[1]Kapsamlı Gelir Tablosu '!E5-E5 -> 0 | J5: ='[1]Kapsamlı Gelir Tablosu '!F5-F5 -> 0
A7: Other comprehensive income / (expense)
A9: Other comprehensive income not to be reclassified to profit or loss
A10: (Losses) / gains on remeasurements of defined benefit plans | C10: =+'[2]Gelir Tablosu'!N39 -> -716601 | D10: =+'[2]Gelir Tablosu'!O39 -> -281585 | E10: =+'[2]Gelir Tablosu'!P39 -> 240709 | F10: =+'[2]Gelir Tablosu'!Q39 -> -212 | G10: ='[1]Kapsamlı Gelir Tablosu '!C10-C10 -> 0 | H10: ='[1]Kapsamlı Gelir Tablosu '!D10-D10 -> 0 | I10: ='[1]Kapsamlı Gelir Tablosu '!E10-E10 -> 0 | J10: ='[1]Kapsamlı Gelir Tablosu '!F10-F10 -> 0
A12: Other comprehensive income tax not to be reclassified to profit or loss
A13: Taxes relating to remeasurements of defined benefit plans | C13: =+'[2]Gelir Tablosu'!N43 -> 179150 | D13: =+'[2]Gelir Tablosu'!O43 -> 70398 | E13: =+'[2]Gelir Tablosu'!P43 -> -48143 | F13: =+'[2]Gelir Tablosu'!Q43 -> 42 | G13: ='[1]Kapsamlı Gelir Tablosu '!C13-C13 -> 0 | H13: ='[1]Kapsamlı Gelir Tablosu '!D13-D13 -> 0 | I13: ='[1]Kapsamlı Gelir Tablosu '!E13-E13 -> 0 | J13: ='[1]Kapsamlı Gelir Tablosu '!F13-F13 -> 0
A15: Other comprehensive income to be reclassified to profit or loss
A16: Gains/(losses) from financial assets measured at fair value through other comprehensive income | C16: =+'[2]Gelir Tablosu'!N48 -> 90162 | D16: =+'[2]Gelir Tablosu'!O48 -> 90162 | E16: =+'[2]Gelir Tablosu'!P48 -> -13873.617 | F16: =+'[2]Gelir Tablosu'!Q48 -> 66682.383 | G16: ='[1]Kapsamlı Gelir Tablosu '!C16-C16 -> 0 | H16: ='[1]Kapsamlı Gelir Tablosu '!D16-D16 -> 0 | I16: ='[1]Kapsamlı Gelir Tablosu '!E16-E16 -> 0 | J16: ='[1]Kapsamlı Gelir Tablosu '!F16-F16 -> 0
A17: Other comprehensive income relating to cash flow hedges | B17: 23 | C17: =+'[2]Gelir Tablosu'!N50 -> 1078887 | D17: =+'[2]Gelir Tablosu'!O50 -> 2497897 | E17: =+'[2]Gelir Tablosu'!P50 -> -14218208 | F17: =+'[2]Gelir Tablosu'!Q50 -> -14170819 | G17: ='[1]Kapsamlı Gelir Tablosu '!C17-C17 -> 0 | H17: ='[1]Kapsamlı Gelir Tablosu '!D17-D17 -> 0 | I17: ='[1]Kapsamlı Gelir Tablosu '!E17-E17 -> 0 | J17: ='[1]Kapsamlı Gelir Tablosu '!F17-F17 -> 0
A18: Exchange Differences on Translation | C18: =+'[2]Gelir Tablosu'!N51 -> -3829351 | D18: =+'[2]Gelir Tablosu'!O51 -> -1863559 | E18: =+'[2]Gelir Tablosu'!P51 -> 3759619 | F18: =+'[2]Gelir Tablosu'!Q51 -> 5753818 | G18: ='[1]Kapsamlı Gelir Tablosu '!C18-C18 -> 0 | H18: ='[1]Kapsamlı Gelir Tablosu '!D18-D18 -> 0 | I18: ='[1]Kapsamlı Gelir Tablosu '!E18-E18 -> 0 | J18: ='[1]Kapsamlı Gelir Tablosu '!F18-F18 -> 0
A20: Other comprehensive income taxes to be reclassified to profit or loss
A21: Taxes relating to gains / (losses) from financial assets measured at fair value through other comprehensive income | C21: =+'[2]Gelir Tablosu'!N57 -> -4508 | D21: =+'[2]Gelir Tablosu'!O57 -> -4508 | E21: =+'[2]Gelir Tablosu'!P57 -> 694 | F21: =+'[2]Gelir Tablosu'!Q57 -> -3334 | G21: ='[1]Kapsamlı Gelir Tablosu '!C21-C21 -> 0 | H21: ='[1]Kapsamlı Gelir Tablosu '!D21-D21 -> 0 | I21: ='[1]Kapsamlı Gelir Tablosu '!E21-E21 -> 0 | J21: ='[1]Kapsamlı Gelir Tablosu '!F21-F21 -> 0
A22: Taxes relating to cash flow hedges | B22: 19 | C22: =+'[2]Gelir Tablosu'!N58 -> -269721.75 | D22: =+'[2]Gelir Tablosu'!O58 -> -658955.75 | E22: =+'[2]Gelir Tablosu'!P58 -> 3554552 | F22: =+'[2]Gelir Tablosu'!Q58 -> 3544144 | G22: ='[1]Kapsamlı Gelir Tablosu '!C22-C22 -> 0 | H22: ='[1]Kapsamlı Gelir Tablosu '!D22-D22 -> 0 | I22: ='[1]Kapsamlı Gelir Tablosu '!E22-E22 -> 0 | J22: ='[1]Kapsamlı Gelir Tablosu '!F22-F22 -> 0
A24: Other comprehensive (loss) / income | C24: =+SUM(C10:C22) -> -3471982.8 | D24: =+SUM(D10:D22) -> -150150.75 | E24: =+SUM(E10:E22) -> -6724650.6 | F24: =+SUM(F10:F22) -> -4809678.6 | G24: ='[1]Kapsamlı Gelir Tablosu '!C24-C24 -> 0 | H24: ='[1]Kapsamlı Gelir Tablosu '!D24-D24 -> 0 | I24: ='[1]Kapsamlı Gelir Tablosu '!E24-E24 -> 0 | J24: ='[1]Kapsamlı Gelir Tablosu '!F24-F24 -> 0
A26: Total comprehensive income | C26: =+C5+C24 -> 12230745 | D26: =+D5+D24 -> 5825363.2 | E26: =+E5+E24 -> 12672384 | F26: =+F5+F24 -> 5745900.4 | G26: ='[1]Kapsamlı Gelir Tablosu '!C26-C26 -> 0 | H26: ='[1]Kapsamlı Gelir Tablosu '!D26-D26 -> 0 | I26: ='[1]Kapsamlı Gelir Tablosu '!E26-E26 -> 0 | J26: ='[1]Kapsamlı Gelir Tablosu '!F26-F26 -> 0

Sheet Changes In Equity
A1: Ford Otomotiv Sanayi A.Ş. Statement of changes in equity for the periods 30 June 2024 and 2023
E2: Other comprehensive income not to be reclassified in profit or loss | G2: Other comprehensive income to be reclassfied in profit or loss | K2: Retained Earnings
A3: =+'Comprehensive Income Statement'!A3 -> Turkish Lira (thousand TL) stated as according to the purchasing power of Turkish Lira on 30 June 2024 | B3: Paid-in capital | C3: Inflation adjustments on capital | D3: Share premium | E3: Gains / (losses) on remeasurements of defined benefit plans | G3: Gain / (losses) from financial assets measured at fair value through other comprehensive income | H3: Cash flow hedge reserve | I3: Exchange Differences on Translation | J3: Restricted Reserves | K3: Accumulated profit | L3: Net Profit | M3: Total equity
A4: Balances at January 1, 2023 | B4: =[2]ÖKD!$C$17 -> 350910 | C4: =[2]ÖKD!$D$17 -> 7347525 | D4: =[2]ÖKD!$E$17 -> 8 | E4: =[2]ÖKD!$F$17 -> -1770275 | G4: =[2]ÖKD!$G$17 -> 124866 | H4: =[2]ÖKD!$H$17 -> -12451543 | I4: =[2]ÖKD!$I$17 -> 55552 | J4: =[2]ÖKD!$J$17 -> 6691055 | K4: =[2]ÖKD!$K$17 -> 28854471 | L4: =[2]ÖKD!$L$17 -> 34588924 | M4: =+SUM(B4:L4) -> 63791493 | N4: ='[1]Özkaynak Değişim Tablosu'!$M4-M4 -> 0
N5: ='[1]Özkaynak Değişim Tablosu'!$M5-M5 -> 0
A6: Profit for the period | B6: =[2]ÖKD!C$18 -> 0 | C6: =[2]ÖKD!D$18 -> 0 | D6: =[2]ÖKD!E$18 -> 0 | E6: =[2]ÖKD!F$18 -> 0 | G6: =[2]ÖKD!G$18 -> 0 | H6: =[2]ÖKD!H$18 -> 0 | I6: =[2]ÖKD!I$18 -> 0 | J6: =[2]ÖKD!J$18 -> 0 | K6: =[2]ÖKD!K$18 -> 0 | L6: =[2]ÖKD!L$18 -> 19397035 | M6: =+SUM(B6:L6) -> 19397035 | N6: ='[1]Özkaynak Değişim Tablosu'!$M6-M6 -> 0
A7: Other comprehensive income/ (loss) | B7: =[2]ÖKD!C$19 -> 0 | C7: =[2]ÖKD!D$19 -> 0 | D7: =[2]ÖKD!E$19 -> 0 | E7: =[2]ÖKD!F$19 -> 192566 | G7: =[2]ÖKD!G$19 -> -13180 | H7: =[2]ÖKD!H$19 -> -10663656 | I7: =[2]ÖKD!I$19 -> 3759619 | J7: =[2]ÖKD!J$19 -> 0 | K7: =[2]ÖKD!K$19 -> 0 | L7: =[2]ÖKD!L$19 -> 0 | M7: =+SUM(B7:L7) -> -6724651 | N7: ='[1]Özkaynak Değişim Tablosu'!$M7-M7 -> 0
A8: Total comprehensive income | B8: =+SUM(B6:B7) -> 0 | C8: =+SUM(C6:C7) -> 0 | D8: =+SUM(D6:D7) -> 0 | E8: =+SUM(E6:E7) -> 192566 | G8: =+SUM(G6:G7) -> -13180 | H8: =+SUM(H6:H7) -> -10663656 | I8: =+SUM(I6:I7) -> 3759619 | J8: =+SUM(J6:J7) -> 0 | K8: =+SUM(K6:K7) -> 0 | L8: =+SUM(L6:L7) -> 19397035 | M8: =+SUM(M6:M7) -> 12672384 | N8: ='[1]Özkaynak Değişim Tablosu'!$M8-M8 -> 0
A9: Transfers | B9: =[2]ÖKD!C$22 -> 0 | C9: =[2]ÖKD!D$22 -> 0 | D9: =[2]ÖKD!E$22 -> 0 | E9: =[2]ÖKD!F$22 -> 0 | G9: =[2]ÖKD!G$22 -> 0 | H9: =[2]ÖKD!H$22 -> 0 | I9: =[2]ÖKD!I$22 -> 0 | J9: =[2]ÖKD!J$22 -> 0 | K9: =[2]ÖKD!K$22 -> 34588924 | L9: =[2]ÖKD!L$22 -> -34588924 | M9: =+SUM(B9:L9) -> 0 | N9: ='[1]Özkaynak Değişim Tablosu'!$M9-M9 -> 0
A10: Dividends paid | B10: =[2]ÖKD!C$23 -> 0 | C10: =[2]ÖKD!D$23 -> 0 | D10: =[2]ÖKD!E$23 -> 0 | E10: =[2]ÖKD!F$23 -> 0 | G10: =[2]ÖKD!G$23 -> 0 | H10: =[2]ÖKD!H$23 -> 0 | I10: =[2]ÖKD!I$23 -> 0 | J10: =[2]ÖKD!J$23 -> 910166 | K10: =[2]ÖKD!K$23 -> -10043873 | L10: =[2]ÖKD!L$23 -> 0 | M10: =+SUM(B10:L10) -> -9133707 | N10: ='[1]Özkaynak Değişim Tablosu'!$M10-M10 -> 0
A11: Balances at June 30, 2023 | B11: =+[2]ÖKD!C25 -> 350910 | C11: =+[2]ÖKD!D25 -> 7347525 | D11: =+[2]ÖKD!E25 -> 8 | E11: =+[2]ÖKD!F25 -> -1577709 | G11: =+[2]ÖKD!G25 -> 111686 | H11: =+[2]ÖKD!H25 -> -23115199 | I11: =+[2]ÖKD!I25 -> 3815171 | J11: =+[2]ÖKD!J25 -> 7601221 | K11: =+[2]ÖKD!K25 -> 53399522 | L11: =+[2]ÖKD!L25 -> 19397035 | M11: =M4+M8+M9+M10 -> 67330170 | N11: ='[1]Özkaynak Değişim Tablosu'!$M11-M11 -> 0
N12: ='[1]Özkaynak Değişim Tablosu'!$M12-M12 -> 0
A13: Balances at January 1, 2024 | B13: =[2]ÖKD!C$32 -> 350910 | C13: =[2]ÖKD!D$32 -> 7347525 | D13: =[2]ÖKD!E$32 -> 8 | E13: =[2]ÖKD!F$32 -> -1666049 | G13: =[2]ÖKD!G$32 -> 140671 | H13: =[2]ÖKD!H$32 -> -23326037 | I13: =[2]ÖKD!I$32 -> -770366 | J13: =[2]ÖKD!J$32 -> 7337457 | K13: =[2]ÖKD!K$32 -> 40462255 | L13: =[2]ÖKD!L$32 -> 61189589 | M13: =+SUM(B13:L13) -> 91065963 | N13: ='[1]Özkaynak Değişim Tablosu'!$M13-M13 -> 0
N14: ='[1]Özkaynak Değişim Tablosu'!$M14-M14 -> 0
A15: Profit/ (loss) for the period | B15: =[2]ÖKD!C$33 -> 0 | C15: =[2]ÖKD!D$33 -> 0 | D15: =[2]ÖKD!E$33 -> 0 | E15: =[2]ÖKD!F$33 -> 0 | G15: =[2]ÖKD!G$33 -> 0 | H15: =[2]ÖKD!H$33 -> 0 | I15: =[2]ÖKD!I$33 -> 0 | J15: =[2]ÖKD!J$33 -> 0 | K15: =[2]ÖKD!K$33 -> 0 | L15: =[2]ÖKD!L$33 -> 15702728 | M15: =+SUM(B15:L15) -> 15702728 | N15: ='[1]Özkaynak Değişim Tablosu'!$M15-M15 -> 0
A16: Other comprehensive income/ (loss) | B16: =[2]ÖKD!C$34 -> 0 | C16: =[2]ÖKD!D$34 -> 0 | D16: =[2]ÖKD!E$34 -> 0 | E16: =[2]ÖKD!F$34 -> -537451 | G16: =[2]ÖKD!G$34 -> 85654 | H16: =[2]ÖKD!H$34 -> 809165 | I16: =[2]ÖKD!I$34 -> -3829351 | J16: =[2]ÖKD!J$34 -> 0 | K16: =[2]ÖKD!K$34 -> 0 | L16: =[2]ÖKD!L$34 -> 0 | M16: =+SUM(B16:L16) -> -3471983 | N16: ='[1]Özkaynak Değişim Tablosu'!$M16-M16 -> 0
A17: Total comprehensive income | B17: =SUM(B15:B16) -> 0 | C17: =SUM(C15:C16) -> 0 | D17: =SUM(D15:D16) -> 0 | E17: =SUM(E15:E16) -> -537451 | G17: =SUM(G15:G16) -> 85654 | H17: =SUM(H15:H16) -> 809165 | I17: =SUM(I15:I16) -> -3829351 | J17: =SUM(J15:J16) -> 0 | K17: =SUM(K15:K16) -> 0 | L17: =SUM(L15:L16) -> 15702728 | M17: =SUM(M15:M16) -> 12230745 | N17: ='[1]Özkaynak Değişim Tablosu'!$M17-M17 -> 0
A18: Transfers | B18: =[2]ÖKD!C$37 -> 0 | C18: =[2]ÖKD!D$37 -> 0 | D18: =[2]ÖKD!E$37 -> 0 | E18: =[2]ÖKD!F$37 -> 0 | G18: =[2]ÖKD!G$37 -> 0 | H18: =[2]ÖKD!H$37 -> 0 | I18: =[2]ÖKD!I$37 -> 0 | J18: =[2]ÖKD!J$37 -> 0 | K18: =[2]ÖKD!K$37 -> 61189589 | L18: =[2]ÖKD!L$37 -> -61189589 | M18: =+SUM(B18:L18) -> 0 | N18: ='[1]Özkaynak Değişim Tablosu'!$M18-M18 -> 0
A19: Dividends paid | B19: =[2]ÖKD!C$38 -> 0 | C19: =[2]ÖKD!D$38 -> 0 | D19: =[2]ÖKD!E$38 -> 0 | E19: =[2]ÖKD!F$38 -> 0 | G19: =[2]ÖKD!G$38 -> 0 | H19: =[2]ÖKD!H$38 -> 0 | I19: =[2]ÖKD!I$38 -> 0 | J19: =[2]ÖKD!J$38 -> 1594543 | K19: =[2]ÖKD!K$38 -> -17558405 | L19: =[2]ÖKD!L$38 -> 0 | M19: =+SUM(B19:L19) -> -15963862 | N19: ='[1]Özkaynak Değişim Tablosu'!$M19-M19 -> 0
A20: Balances at June 30, 2024 | B20: =+[2]ÖKD!C40 -> 350910 | C20: =+[2]ÖKD!D40 -> 7347525 | D20: =+[2]ÖKD!E40 -> 8 | E20: =+[2]ÖKD!F40 -> -2203500 | G20: =+[2]ÖKD!G40 -> 226325 | H20: =+[2]ÖKD!H40 -> -22516872 | I20: =+[2]ÖKD!I40 -> -4599717 | J20: =+[2]ÖKD!J40 -> 8932000 | K20: =+[2]ÖKD!K40 -> 84093439 | L20: =+[2]ÖKD!L40 -> 15702728 | M20: =+M13+M17+M18+M19 -> 87332846 | N20: ='[1]Özkaynak Değişim Tablosu'!$M20-M20 -> 0
B22: ='[1]Özkaynak Değişim Tablosu'!B$20-B20 -> 0 | C22: ='[1]Özkaynak Değişim Tablosu'!C$20-C20 -> 0 | D22: ='[1]Özkaynak Değişim Tablosu'!D$20-D20 -> 0 | E22: ='[1]Özkaynak Değişim Tablosu'!E$20-E20 -> 0 | F22: ='[1]Özkaynak Değişim Tablosu'!F$20-F20 -> 0 | G22: ='[1]Özkaynak Değişim Tablosu'!G$20-G20 -> 0 | H22: ='[1]Özkaynak Değişim Tablosu'!H$20-H20 -> 0 | I22: ='[1]Özkaynak Değişim Tablosu'!I$20-I20 -> 0 | ... M22: ='[1]Özkaynak Değişim Tablosu'!M$20-M20 -> 0

Sheet Statement of Cash Flow
A1: Ford Otomotiv Sanayi A.Ş. Statement of cash flows for the periods ended 30 June 2024 and 2023
A2: =+'Changes In Equity'!A3 -> Turkish Lira (thousand TL) stated as according to the purchasing power of Turkish Lira on 30 June 2024 | B2: Notes | C2: Current Period Limited Reviewed 30 June 2024 | D2: Prior Period Limited Reviewed 30 June 2023
A5: Cash flows generated from/ (used in) operating activities | C5: =+SUM(C34:C40) -> 3724924 | D5: =+SUM(D34:D40) -> 37197328 | E5: =+C5-'[1]Nakit Akım Tablosu'!C5 -> 0 | F5: =+D5-'[1]Nakit Akım Tablosu'!D5 -> 0
A6: Net profit for the period | C6: =[2]NA!$D$9 -> 15702728 | D6: =[2]NA!$E$9 -> 19397035 | E6: =+C6-'[1]Nakit Akım Tablosu'!C6 -> 0 | F6: =+D6-'[1]Nakit Akım Tablosu'!D6 -> 0
A7: Adjustments to reconcile profit or loss | C7: =+SUM(C8:C24) -> 3766656 | D7: =+SUM(D8:D24) -> 17412212 | E7: =+C7-'[1]Nakit Akım Tablosu'!C7 -> 0 | F7: =+D7-'[1]Nakit Akım Tablosu'!D7 -> 0
A8: Adjustments for depreciation and amortisation expense | C8: =[2]NA!$D$11 -> 4429333 | D8: =[2]NA!$E$11 -> 4375797 | E8: =+C8-'[1]Nakit Akım Tablosu'!C8 -> 0 | F8: =+D8-'[1]Nakit Akım Tablosu'!D8 -> 0
A9: Adjustments for impairment loss of inventories | B9: 7 | C9: =[2]NA!$D$12 -> 507186 | D9: =[2]NA!$E$12 -> -26408 | E9: =+C9-'[1]Nakit Akım Tablosu'!C9 -> 0 | F9: =+D9-'[1]Nakit Akım Tablosu'!D9 -> 0
A10: Adjustments for provisions related with employee benefits | C10: =[2]NA!$D$13 -> -884595 | D10: =[2]NA!$E$13 -> 1821634 | E10: =+C10-'[1]Nakit Akım Tablosu'!C10 -> 0 | F10: =+D10-'[1]Nakit Akım Tablosu'!D10 -> 0
A11: Adjustments for lawsuit and/ or penalty provisions | B11: 11 | C11: =[2]NA!$D$14 -> 86641 | D11: =[2]NA!$E$14 -> 41297 | E11: =+C11-'[1]Nakit Akım Tablosu'!C11 -> 0 | F11: =+D11-'[1]Nakit Akım Tablosu'!D11 -> 0
A12: Adjustments for warranty provisions | B12: 11 | C12: =[2]NA!$D$15 -> 1255317 | D12: =[2]NA!$E$15 -> 1822357 | E12: =+C12-'[1]Nakit Akım Tablosu'!C12 -> 0 | F12: =+D12-'[1]Nakit Akım Tablosu'!D12 -> 0
A13: Adjustments for other provisions | C13: =[2]NA!$D$16 -> 181340 | D13: =[2]NA!$E$16 -> 234692 | E13: =+C13-'[1]Nakit Akım Tablosu'!C13 -> 0 | F13: =+D13-'[1]Nakit Akım Tablosu'!D13 -> 0
A14: Adjustments for dividend income | C14: =[2]NA!$D$17 -> 0 | D14: =[2]NA!$E$17 -> 0 | E14: =+C14-'[1]Nakit Akım Tablosu'!C14 -> 0 | F14: =+D14-'[1]Nakit Akım Tablosu'!D14 -> 0
A15: Adjustments for interest income | B15: 17 | C15: =[2]NA!$D$18 -> -1315020 | D15: =[2]NA!$E$18 -> -1638831 | E15: =+C15-'[1]Nakit Akım Tablosu'!C15 -> 0 | F15: =+D15-'[1]Nakit Akım Tablosu'!D15 -> 0
A16: Adjustments for interest expense | B16: 18 | C16: =[2]NA!$D$19 -> 4993786 | D16: =[2]NA!$E$19 -> 3367847 | E16: =+C16-'[1]Nakit Akım Tablosu'!C16 -> 0 | F16: =+D16-'[1]Nakit Akım Tablosu'!D16 -> 0
A17: Adjustments for tax expenses | B17: 19 | C17: =[2]NA!$D$20 -> -166051 | D17: =[2]NA!$E$20 -> 5341096 | E17: =+C17-'[1]Nakit Akım Tablosu'!C17 -> 0 | F17: =+D17-'[1]Nakit Akım Tablosu'!D17 -> 0
A18: Adjustments for unearned financing income | B18: 16 | C18: =[2]NA!$D$21 -> -3250711 | D18: =[2]NA!$E$21 -> -1822487 | E18: =+C18-'[1]Nakit Akım Tablosu'!C18 -> 0 | F18: =+D18-'[1]Nakit Akım Tablosu'!D18 -> 0
A19: Adjustments for deferred financing expense | B19: 16 | C19: =[2]NA!$D$22 -> 4622393 | D19: =[2]NA!$E$22 -> 2725839 | E19: =+C19-'[1]Nakit Akım Tablosu'!C19 -> 0 | F19: =+D19-'[1]Nakit Akım Tablosu'!D19 -> 0
A20: Adjustments for (gain) / loss on sales of property, plant and equipment | C20: =[2]NA!$D$23 -> 0 | D20: =[2]NA!$E$23 -> 2450 | E20: =+C20-'[1]Nakit Akım Tablosu'!C20 -> 0 | F20: =+D20-'[1]Nakit Akım Tablosu'!D20 -> 0
A21: Adjustments for unrealised foreign exchange losses/(gains) | C21: =[2]NA!$D$24 -> 2251670 | D21: =[2]NA!$E$24 -> -696303 | E21: =+C21-'[1]Nakit Akım Tablosu'!C21 -> 0 | F21: =+D21-'[1]Nakit Akım Tablosu'!D21 -> 0
A22: Other adjustments for which cash effects are investing or financing cash flow | C22: =[2]NA!$D$25 -> 6494303 | D22: =[2]NA!$E$25 -> 8804175 | E22: =+C22-'[1]Nakit Akım Tablosu'!C22 -> 0 | F22: =+D22-'[1]Nakit Akım Tablosu'!D22 -> 0
A23: Monetary (gain) / loss | C23: =[2]NA!$D$26 -> -15438936 | D23: =[2]NA!$E$26 -> -6940943 | E23: =+C23-'[1]Nakit Akım Tablosu'!C23 -> 0 | F23: =+D23-'[1]Nakit Akım Tablosu'!D23 -> 0
E24: =+C24-'[1]Nakit Akım Tablosu'!C24 -> 0 | F24: =+D24-'[1]Nakit Akım Tablosu'!D24 -> 0
A25: Changes in working capital | C25: =+SUM(C27:C32) -> -12860764 | D25: =+SUM(D27:D32) -> 4330681 | E25: =+C25-'[1]Nakit Akım Tablosu'!C25 -> 0 | F25: =+D25-'[1]Nakit Akım Tablosu'!D25 -> 0
E26: =+C26-'[1]Nakit Akım Tablosu'!C26 -> 0 | F26: =+D26-'[1]Nakit Akım Tablosu'!D26 -> 0
A27: (Increase) / decrease in trade receivable | C27: =[2]NA!$D$31 -> 2436803 | D27: =[2]NA!$E$31 -> 1350405 | E27: =+C27-'[1]Nakit Akım Tablosu'!C27 -> 0 | F27: =+D27-'[1]Nakit Akım Tablosu'!D27 -> 0
A28: (Increase) / decrease in inventories | C28: =[2]NA!$D$32 -> -15028362 | D28: =[2]NA!$E$32 -> -6549541 | E28: =+C28-'[1]Nakit Akım Tablosu'!C28 -> 0 | F28: =+D28-'[1]Nakit Akım Tablosu'!D28 -> 0
A29: (Increase) / decrease in prepaid expenses | C29: =[2]NA!$D$33 -> -557745 | D29: =[2]NA!$E$33 -> -860133 | E29: =+C29-'[1]Nakit Akım Tablosu'!C29 -> 0 | F29: =+D29-'[1]Nakit Akım Tablosu'!D29 -> 0
A30: Increase/ (decrease) in trade payable | C30: =[2]NA!$D$34 -> -7418780 | D30: =[2]NA!$E$34 -> 9716281 | E30: =+C30-'[1]Nakit Akım Tablosu'!C30 -> 0 | F30: =+D30-'[1]Nakit Akım Tablosu'!D30 -> 0
A31: (Increase) / decrease in other assets | C31: =[2]NA!$D$35 -> 8041323 | D31: =[2]NA!$E$35 -> 187982 | E31: =+C31-'[1]Nakit Akım Tablosu'!C31 -> 0 | F31: =+D31-'[1]Nakit Akım Tablosu'!D31 -> 0
A32: Increase/ (decrease) in other liabilities | C32: =[2]NA!$D$36 -> -334003 | D32: =[2]NA!$E$36 -> 485687 | E32: =+C32-'[1]Nakit Akım Tablosu'!C32 -> 0 | F32: =+D32-'[1]Nakit Akım Tablosu'!D32 -> 0
E33: =+C33-'[1]Nakit Akım Tablosu'!C33 -> 0 | F33: =+D33-'[1]Nakit Akım Tablosu'!D33 -> 0
A34: Cash flows generated from operations | C34: =+C6+C7+C25 -> 6608620 | D34: =+D6+D7+D25 -> 41139928 | E34: =+C34-'[1]Nakit Akım Tablosu'!C34 -> 0 | F34: =+D34-'[1]Nakit Akım Tablosu'!D34 -> 0
E35: =+C35-'[1]Nakit Akım Tablosu'!C35 -> 0 | F35: =+D35-'[1]Nakit Akım Tablosu'!D35 -> 0
A36: Interest paid | C36: =[2]NA!$D$44 -> -4773454 | D36: =[2]NA!$E$44 -> -2518647 | E36: =+C36-'[1]Nakit Akım Tablosu'!C36 -> 0 | F36: =+D36-'[1]Nakit Akım Tablosu'!D36 -> 0
A37: Interest received | C37: =[2]NA!$D$45 -> 3343892 | D37: =[2]NA!$E$45 -> 1477465 | E37: =+C37-'[1]Nakit Akım Tablosu'!C37 -> 0 | F37: =+D37-'[1]Nakit Akım Tablosu'!D37 -> 0
A38: Payments related with provisions for employee benefits | C38: =[2]NA!$D$46 -> -75022 | D38: =[2]NA!$E$46 -> -531771 | E38: =+C38-'[1]Nakit Akım Tablosu'!C38 -> 0 | F38: =+D38-'[1]Nakit Akım Tablosu'!D38 -> 0
A39: Payments related with other provisions | B39: 11 | C39: =[2]NA!$D$47 -> -1120935 | D39: =[2]NA!$E$47 -> -878513 | E39: =+C39-'[1]Nakit Akım Tablosu'!C39 -> 0 | F39: =+D39-'[1]Nakit Akım Tablosu'!D39 -> 0
A40: Taxes paid | B40: 19 | C40: =[2]NA!$D$48 -> -258177 | D40: =[2]NA!$E$48 -> -1491134 | E40: =+C40-'[1]Nakit Akım Tablosu'!C40 -> 0 | F40: =+D40-'[1]Nakit Akım Tablosu'!D40 -> 0
E41: =+C41-'[1]Nakit Akım Tablosu'!C41 -> 0 | F41: =+D41-'[1]Nakit Akım Tablosu'!D41 -> 0
A42: Cash flows used in investing activities | C42: =+SUM(C44:C51) -> -13224009 | D42: =+SUM(D44:D51) -> -12300157 | E42: =+C42-'[1]Nakit Akım Tablosu'!C42 -> 0 | F42: =+D42-'[1]Nakit Akım Tablosu'!D42 -> 0
...

Sheet Sheet1
